BEGIN:VCALENDAR
VERSION:2.0
PRODID:-// - ECPv6.15.20//NONSGML v1.0//EN
CALSCALE:GREGORIAN
METHOD:PUBLISH
X-ORIGINAL-URL:https://hod.pca.org
X-WR-CALDESC:Events for 
REFRESH-INTERVAL;VALUE=DURATION:PT1H
X-Robots-Tag:noindex
X-PUBLISHED-TTL:PT1H
BEGIN:VTIMEZONE
TZID:America/New_York
BEGIN:DAYLIGHT
TZOFFSETFROM:-0500
TZOFFSETTO:-0400
TZNAME:EDT
DTSTART:20230312T070000
END:DAYLIGHT
BEGIN:STANDARD
TZOFFSETFROM:-0400
TZOFFSETTO:-0500
TZNAME:EST
DTSTART:20231105T060000
END:STANDARD
BEGIN:DAYLIGHT
TZOFFSETFROM:-0500
TZOFFSETTO:-0400
TZNAME:EDT
DTSTART:20240310T070000
END:DAYLIGHT
BEGIN:STANDARD
TZOFFSETFROM:-0400
TZOFFSETTO:-0500
TZNAME:EST
DTSTART:20241103T060000
END:STANDARD
BEGIN:DAYLIGHT
TZOFFSETFROM:-0500
TZOFFSETTO:-0400
TZNAME:EDT
DTSTART:20250309T070000
END:DAYLIGHT
BEGIN:STANDARD
TZOFFSETFROM:-0400
TZOFFSETTO:-0500
TZNAME:EST
DTSTART:20251102T060000
END:STANDARD
END:VTIMEZONE
BEGIN:VEVENT
DTSTART;TZID=America/New_York:20240427T090000
DTEND;TZID=America/New_York:20240427T130000
DTSTAMP:20260423T202922
CREATED:20240305T221706Z
LAST-MODIFIED:20240305T221706Z
UID:380-1714208400-1714222800@hod.pca.org
SUMMARY:Asbury Church Car & Bike Show
DESCRIPTION:Register on-site and it’s free\, plus a free hot dog for lunch. Club member Scott Millhouse will ensure they park all the Porsches together. Judging starts at 10:00 AM with awards at noon. You can come to the Porsches & Coffee at 8:00 AM then drive over to the Car Show at 9:00 AM.
URL:https://hod.pca.org/event/asbury-church-car-bike-show/
LOCATION:Asbury Chuch\, 980 Hughes Rd\, Madison\, AL\, 35758\, United States
CATEGORIES:Car Show
END:VEVENT
END:VCALENDAR