BEGIN:VCALENDAR
VERSION:2.0
PRODID:-// - ECPv6.15.20//NONSGML v1.0//EN
CALSCALE:GREGORIAN
METHOD:PUBLISH
X-ORIGINAL-URL:https://hod.pca.org
X-WR-CALDESC:Events for 
REFRESH-INTERVAL;VALUE=DURATION:PT1H
X-Robots-Tag:noindex
X-PUBLISHED-TTL:PT1H
BEGIN:VTIMEZONE
TZID:America/New_York
BEGIN:DAYLIGHT
TZOFFSETFROM:-0500
TZOFFSETTO:-0400
TZNAME:EDT
DTSTART:20230312T070000
END:DAYLIGHT
BEGIN:STANDARD
TZOFFSETFROM:-0400
TZOFFSETTO:-0500
TZNAME:EST
DTSTART:20231105T060000
END:STANDARD
BEGIN:DAYLIGHT
TZOFFSETFROM:-0500
TZOFFSETTO:-0400
TZNAME:EDT
DTSTART:20240310T070000
END:DAYLIGHT
BEGIN:STANDARD
TZOFFSETFROM:-0400
TZOFFSETTO:-0500
TZNAME:EST
DTSTART:20241103T060000
END:STANDARD
BEGIN:DAYLIGHT
TZOFFSETFROM:-0500
TZOFFSETTO:-0400
TZNAME:EDT
DTSTART:20250309T070000
END:DAYLIGHT
BEGIN:STANDARD
TZOFFSETFROM:-0400
TZOFFSETTO:-0500
TZNAME:EST
DTSTART:20251102T060000
END:STANDARD
END:VTIMEZONE
BEGIN:VEVENT
DTSTART;TZID=America/New_York:20240601T070000
DTEND;TZID=America/New_York:20240601T090000
DTSTAMP:20260423T182353
CREATED:20240308T220513Z
LAST-MODIFIED:20240423T153042Z
UID:505-1717225200-1717232400@hod.pca.org
SUMMARY:HOD Pit Stop Social and Breakfast - Little Libby's Catfish
DESCRIPTION:7:00 AM – Social in parking lot.\n7:30 AM – Breakfast inside as desired. Don’t forget to bring a food item for your contribution to the North Alabama Food Bank.
URL:https://hod.pca.org/event/hod-pit-stop-social-and-breakfast-3/
LOCATION:Little Libby’s Catfish\, 234 Lime Quarry Rd\, Madison\, AL\, 35758\, United States
CATEGORIES:Pit Stop Breakfast
END:VEVENT
BEGIN:VEVENT
DTSTART;TZID=America/New_York:20240601T090000
DTEND;TZID=America/New_York:20240601T110000
DTSTAMP:20260423T182353
CREATED:20240308T221003Z
LAST-MODIFIED:20240308T221003Z
UID:508-1717232400-1717239600@hod.pca.org
SUMMARY:HOD Board Meeting
DESCRIPTION:Any HOD member is welcome to attend. Meeting in conference room.
URL:https://hod.pca.org/event/hod-board-meeting/
LOCATION:Century Porsche\, 3810 University Dr NW\, Huntsville\, AL\, 35816\, United States
CATEGORIES:Board Meeting
END:VEVENT
END:VCALENDAR