BEGIN:VCALENDAR
VERSION:2.0
PRODID:-// - ECPv6.15.20//NONSGML v1.0//EN
CALSCALE:GREGORIAN
METHOD:PUBLISH
X-ORIGINAL-URL:https://hod.pca.org
X-WR-CALDESC:Events for 
REFRESH-INTERVAL;VALUE=DURATION:PT1H
X-Robots-Tag:noindex
X-PUBLISHED-TTL:PT1H
BEGIN:VTIMEZONE
TZID:America/New_York
BEGIN:DAYLIGHT
TZOFFSETFROM:-0500
TZOFFSETTO:-0400
TZNAME:EDT
DTSTART:20230312T070000
END:DAYLIGHT
BEGIN:STANDARD
TZOFFSETFROM:-0400
TZOFFSETTO:-0500
TZNAME:EST
DTSTART:20231105T060000
END:STANDARD
BEGIN:DAYLIGHT
TZOFFSETFROM:-0500
TZOFFSETTO:-0400
TZNAME:EDT
DTSTART:20240310T070000
END:DAYLIGHT
BEGIN:STANDARD
TZOFFSETFROM:-0400
TZOFFSETTO:-0500
TZNAME:EST
DTSTART:20241103T060000
END:STANDARD
BEGIN:DAYLIGHT
TZOFFSETFROM:-0500
TZOFFSETTO:-0400
TZNAME:EDT
DTSTART:20250309T070000
END:DAYLIGHT
BEGIN:STANDARD
TZOFFSETFROM:-0400
TZOFFSETTO:-0500
TZNAME:EST
DTSTART:20251102T060000
END:STANDARD
END:VTIMEZONE
BEGIN:VEVENT
DTSTART;TZID=America/New_York:20240622T080000
DTEND;TZID=America/New_York:20240622T120000
DTSTAMP:20260423T182453
CREATED:20240308T221602Z
LAST-MODIFIED:20240308T221602Z
UID:514-1719043200-1719057600@hod.pca.org
SUMMARY:HOD Driving Tour - Hartselle/Freight House - Harding
DESCRIPTION:8:00 AM – Assemble in Walmart parking lot\, 11610 Memorial Pkwy SW for Drivers Safety Meeting and route guidance. Depart promptly at 8:30AM for a 39-mile (just under an hour) first leg to the Marathon service station in Cullman for a 20-30 minute rest stop. The second leg is 50 miles (1-1/4 hours) to lunch at the Freight House Restaurant\, 200 Railroad St SW\, Hartselle. It’s only 35 miles north on I-65/I-565 to Huntsville for a total distance of 125 miles\, depending on your residence location.
URL:https://hod.pca.org/event/hod-driving-tour-hartselle-freight-house-harding/
LOCATION:Walmart Southeast Plaza\, 11610 Memorial Pkwy SW\, Huntsville\, AL\, 35803\, United States
CATEGORIES:Tour
END:VEVENT
END:VCALENDAR