BEGIN:VCALENDAR
VERSION:2.0
PRODID:-// - ECPv6.15.20//NONSGML v1.0//EN
CALSCALE:GREGORIAN
METHOD:PUBLISH
X-ORIGINAL-URL:https://hod.pca.org
X-WR-CALDESC:Events for 
REFRESH-INTERVAL;VALUE=DURATION:PT1H
X-Robots-Tag:noindex
X-PUBLISHED-TTL:PT1H
BEGIN:VTIMEZONE
TZID:America/New_York
BEGIN:DAYLIGHT
TZOFFSETFROM:-0500
TZOFFSETTO:-0400
TZNAME:EDT
DTSTART:20230312T070000
END:DAYLIGHT
BEGIN:STANDARD
TZOFFSETFROM:-0400
TZOFFSETTO:-0500
TZNAME:EST
DTSTART:20231105T060000
END:STANDARD
BEGIN:DAYLIGHT
TZOFFSETFROM:-0500
TZOFFSETTO:-0400
TZNAME:EDT
DTSTART:20240310T070000
END:DAYLIGHT
BEGIN:STANDARD
TZOFFSETFROM:-0400
TZOFFSETTO:-0500
TZNAME:EST
DTSTART:20241103T060000
END:STANDARD
BEGIN:DAYLIGHT
TZOFFSETFROM:-0500
TZOFFSETTO:-0400
TZNAME:EDT
DTSTART:20250309T070000
END:DAYLIGHT
BEGIN:STANDARD
TZOFFSETFROM:-0400
TZOFFSETTO:-0500
TZNAME:EST
DTSTART:20251102T060000
END:STANDARD
END:VTIMEZONE
BEGIN:VEVENT
DTSTART;TZID=America/New_York:20240630T070000
DTEND;TZID=America/New_York:20240630T100000
DTSTAMP:20260423T134637
CREATED:20240624T210053Z
LAST-MODIFIED:20240624T210053Z
UID:779-1719730800-1719741600@hod.pca.org
SUMMARY:Porsche of Huntsville - Cars & Coffee
DESCRIPTION:“You are cordially invited to join us for an exhilarating morning at Cars and Coffee\, hosted by Porsche of Huntsville in conjunction with EuroSunday. This event promises to be a celebration of automotive passion\, where enthusiasts like yourself can gather to admire a stunning array of vehicles.”
URL:https://hod.pca.org/event/porsche-of-huntsville-cars-coffee/
LOCATION:EuroSunday\, 1300 Meridian St N\, Huntsville\, AL\, United States
END:VEVENT
END:VCALENDAR