BEGIN:VCALENDAR
VERSION:2.0
PRODID:-// - ECPv6.15.20//NONSGML v1.0//EN
CALSCALE:GREGORIAN
METHOD:PUBLISH
X-ORIGINAL-URL:https://hod.pca.org
X-WR-CALDESC:Events for 
REFRESH-INTERVAL;VALUE=DURATION:PT1H
X-Robots-Tag:noindex
X-PUBLISHED-TTL:PT1H
BEGIN:VTIMEZONE
TZID:America/New_York
BEGIN:DAYLIGHT
TZOFFSETFROM:-0500
TZOFFSETTO:-0400
TZNAME:EDT
DTSTART:20230312T070000
END:DAYLIGHT
BEGIN:STANDARD
TZOFFSETFROM:-0400
TZOFFSETTO:-0500
TZNAME:EST
DTSTART:20231105T060000
END:STANDARD
BEGIN:DAYLIGHT
TZOFFSETFROM:-0500
TZOFFSETTO:-0400
TZNAME:EDT
DTSTART:20240310T070000
END:DAYLIGHT
BEGIN:STANDARD
TZOFFSETFROM:-0400
TZOFFSETTO:-0500
TZNAME:EST
DTSTART:20241103T060000
END:STANDARD
BEGIN:DAYLIGHT
TZOFFSETFROM:-0500
TZOFFSETTO:-0400
TZNAME:EDT
DTSTART:20250309T070000
END:DAYLIGHT
BEGIN:STANDARD
TZOFFSETFROM:-0400
TZOFFSETTO:-0500
TZNAME:EST
DTSTART:20251102T060000
END:STANDARD
END:VTIMEZONE
BEGIN:VEVENT
DTSTART;TZID=America/New_York:20240801T170000
DTEND;TZID=America/New_York:20240801T200000
DTSTAMP:20260423T112331
CREATED:20240313T181355Z
LAST-MODIFIED:20240606T123649Z
UID:532-1722531600-1722542400@hod.pca.org
SUMMARY:New Members Reception and Dinner
DESCRIPTION:5:00 PM – New members’ reception at Porsche of Huntsville Showroom.\n6:00 PM – Caravan to Carrabba’s Italian Grill at Park Place Mall\, Huntsville. Complementary dinner for invited members and a family member. Reservations required. Call or text Club Social Chair Melanie Nord\, 256.683.0863.
URL:https://hod.pca.org/event/new-members-reception-and-dinner/
LOCATION:Porsche Huntsville\, 3800 University Dr\, Huntsville\, AL\, 35816\, United States
CATEGORIES:New Members
END:VEVENT
END:VCALENDAR