BEGIN:VCALENDAR
VERSION:2.0
PRODID:-// - ECPv6.15.20//NONSGML v1.0//EN
CALSCALE:GREGORIAN
METHOD:PUBLISH
X-ORIGINAL-URL:https://hod.pca.org
X-WR-CALDESC:Events for 
REFRESH-INTERVAL;VALUE=DURATION:PT1H
X-Robots-Tag:noindex
X-PUBLISHED-TTL:PT1H
BEGIN:VTIMEZONE
TZID:America/Chicago
BEGIN:DAYLIGHT
TZOFFSETFROM:-0600
TZOFFSETTO:-0500
TZNAME:CDT
DTSTART:20230312T080000
END:DAYLIGHT
BEGIN:STANDARD
TZOFFSETFROM:-0500
TZOFFSETTO:-0600
TZNAME:CST
DTSTART:20231105T070000
END:STANDARD
BEGIN:DAYLIGHT
TZOFFSETFROM:-0600
TZOFFSETTO:-0500
TZNAME:CDT
DTSTART:20240310T080000
END:DAYLIGHT
BEGIN:STANDARD
TZOFFSETFROM:-0500
TZOFFSETTO:-0600
TZNAME:CST
DTSTART:20241103T070000
END:STANDARD
BEGIN:DAYLIGHT
TZOFFSETFROM:-0600
TZOFFSETTO:-0500
TZNAME:CDT
DTSTART:20250309T080000
END:DAYLIGHT
BEGIN:STANDARD
TZOFFSETFROM:-0500
TZOFFSETTO:-0600
TZNAME:CST
DTSTART:20251102T070000
END:STANDARD
END:VTIMEZONE
BEGIN:VEVENT
DTSTART;TZID=America/Chicago:20240808T180000
DTEND;TZID=America/Chicago:20240808T200000
DTSTAMP:20260423T101928
CREATED:20240305T222708Z
LAST-MODIFIED:20240601T215306Z
UID:387-1723140000-1723147200@hod.pca.org
SUMMARY:HOD Monthly Members Dinner Meeting - The Green in Providence
DESCRIPTION:This is our annual event where we park our cars on the Green in Providence. You can access the Green from Providence Main St. If you come into Providence from Hwy 72E\, you can find the entrance to the Green on the corner just across the street from Taco Mama. The other entrance to the Green is across the street from Mellow Mushroom on the corner. Bring lawn chairs and picnic items\, align your Porsches across the front of the mall. Multiple restaurants offering take-out an drinks within a block: Taco Mama\, Casual Pint\, Furniture Factory Bar & Grill\, The Grille on Main\, Moe’s BBQ\, Phuket Thai\, Mellow Mushroom\, Edgar’s Bakery\, Charrito’s Mexican. Or bring your own!
URL:https://hod.pca.org/event/hod-monthly-members-dinner-meeting-3/
LOCATION:The Village of Providence\, 445 Providence Main St\, Huntsville\, AL\, 35806\, United States
CATEGORIES:Member Dinner
END:VEVENT
END:VCALENDAR