BEGIN:VCALENDAR
VERSION:2.0
PRODID:-// - ECPv6.15.20//NONSGML v1.0//EN
CALSCALE:GREGORIAN
METHOD:PUBLISH
X-ORIGINAL-URL:https://hod.pca.org
X-WR-CALDESC:Events for 
REFRESH-INTERVAL;VALUE=DURATION:PT1H
X-Robots-Tag:noindex
X-PUBLISHED-TTL:PT1H
BEGIN:VTIMEZONE
TZID:America/Chicago
BEGIN:DAYLIGHT
TZOFFSETFROM:-0600
TZOFFSETTO:-0500
TZNAME:CDT
DTSTART:20230312T080000
END:DAYLIGHT
BEGIN:STANDARD
TZOFFSETFROM:-0500
TZOFFSETTO:-0600
TZNAME:CST
DTSTART:20231105T070000
END:STANDARD
BEGIN:DAYLIGHT
TZOFFSETFROM:-0600
TZOFFSETTO:-0500
TZNAME:CDT
DTSTART:20240310T080000
END:DAYLIGHT
BEGIN:STANDARD
TZOFFSETFROM:-0500
TZOFFSETTO:-0600
TZNAME:CST
DTSTART:20241103T070000
END:STANDARD
BEGIN:DAYLIGHT
TZOFFSETFROM:-0600
TZOFFSETTO:-0500
TZNAME:CDT
DTSTART:20250309T080000
END:DAYLIGHT
BEGIN:STANDARD
TZOFFSETFROM:-0500
TZOFFSETTO:-0600
TZNAME:CST
DTSTART:20251102T070000
END:STANDARD
END:VTIMEZONE
BEGIN:VEVENT
DTSTART;TZID=America/Chicago:20240824T080000
DTEND;TZID=America/Chicago:20240824T120000
DTSTAMP:20260423T112331
CREATED:20240423T150423Z
LAST-MODIFIED:20240423T150423Z
UID:717-1724486400-1724500800@hod.pca.org
SUMMARY:HOD Driving Tour - Tullahoma TN - Bayuga
DESCRIPTION:8:00 Assemble at Publix parking lot in Harvest Square for Drivers Safety Briefing and route guidance. Depart at 8:30 AM for tour to Prichard’s Distillery followed by lunch at The Seafood Place\, 105 NW Atlantic St\, Tullahoma\, TN.
URL:https://hod.pca.org/event/hod-driving-tour-tullahoma-tn-bayuga/
LOCATION:Publix at Harvest Sq\, 5850 AL-53\, Harvest\, AL\, 35749\, United States
END:VEVENT
END:VCALENDAR