BEGIN:VCALENDAR
VERSION:2.0
PRODID:-// - ECPv6.15.20//NONSGML v1.0//EN
CALSCALE:GREGORIAN
METHOD:PUBLISH
X-ORIGINAL-URL:https://hod.pca.org
X-WR-CALDESC:Events for 
REFRESH-INTERVAL;VALUE=DURATION:PT1H
X-Robots-Tag:noindex
X-PUBLISHED-TTL:PT1H
BEGIN:VTIMEZONE
TZID:America/New_York
BEGIN:DAYLIGHT
TZOFFSETFROM:-0500
TZOFFSETTO:-0400
TZNAME:EDT
DTSTART:20230312T070000
END:DAYLIGHT
BEGIN:STANDARD
TZOFFSETFROM:-0400
TZOFFSETTO:-0500
TZNAME:EST
DTSTART:20231105T060000
END:STANDARD
BEGIN:DAYLIGHT
TZOFFSETFROM:-0500
TZOFFSETTO:-0400
TZNAME:EDT
DTSTART:20240310T070000
END:DAYLIGHT
BEGIN:STANDARD
TZOFFSETFROM:-0400
TZOFFSETTO:-0500
TZNAME:EST
DTSTART:20241103T060000
END:STANDARD
BEGIN:DAYLIGHT
TZOFFSETFROM:-0500
TZOFFSETTO:-0400
TZNAME:EDT
DTSTART:20250309T070000
END:DAYLIGHT
BEGIN:STANDARD
TZOFFSETFROM:-0400
TZOFFSETTO:-0500
TZNAME:EST
DTSTART:20251102T060000
END:STANDARD
END:VTIMEZONE
BEGIN:VEVENT
DTSTART;TZID=America/New_York:20241019T073000
DTEND;TZID=America/New_York:20241020T073000
DTSTAMP:20260423T064815
CREATED:20240316T154441Z
LAST-MODIFIED:20240316T154441Z
UID:556-1729323000-1729409400@hod.pca.org
SUMMARY:HOD Tail of the Dragon Driving Tour - Schroetter
DESCRIPTION:7:30 AM assemble on Old Gurley Rd.\, behind the Sunoco Gas Station\, 1604 Hwy. 72 E\, just east of the US72 and Moores Mill intersection for Drivers Safety Briefing and route guidance. Depart at 8:00 AM on tour to the Tail of the Dragon.This is an overnight excursion. \nOvernight Reservations are required at the Fontana Village Lodge\, 300 Woods Rd.\, Fontana Dam\, NC.
URL:https://hod.pca.org/event/hod-tail-of-the-dragon-driving-tour-schroetter/
LOCATION:Sunoco Gas Station\, 1604 Hwy 72 E\, Huntsville\, AL\, 35811
CATEGORIES:Tour
END:VEVENT
END:VCALENDAR