BEGIN:VCALENDAR
VERSION:2.0
PRODID:-// - ECPv6.15.20//NONSGML v1.0//EN
CALSCALE:GREGORIAN
METHOD:PUBLISH
X-ORIGINAL-URL:https://hod.pca.org
X-WR-CALDESC:Events for 
REFRESH-INTERVAL;VALUE=DURATION:PT1H
X-Robots-Tag:noindex
X-PUBLISHED-TTL:PT1H
BEGIN:VTIMEZONE
TZID:America/Chicago
BEGIN:DAYLIGHT
TZOFFSETFROM:-0600
TZOFFSETTO:-0500
TZNAME:CDT
DTSTART:20230312T080000
END:DAYLIGHT
BEGIN:STANDARD
TZOFFSETFROM:-0500
TZOFFSETTO:-0600
TZNAME:CST
DTSTART:20231105T070000
END:STANDARD
BEGIN:DAYLIGHT
TZOFFSETFROM:-0600
TZOFFSETTO:-0500
TZNAME:CDT
DTSTART:20240310T080000
END:DAYLIGHT
BEGIN:STANDARD
TZOFFSETFROM:-0500
TZOFFSETTO:-0600
TZNAME:CST
DTSTART:20241103T070000
END:STANDARD
BEGIN:DAYLIGHT
TZOFFSETFROM:-0600
TZOFFSETTO:-0500
TZNAME:CDT
DTSTART:20250309T080000
END:DAYLIGHT
BEGIN:STANDARD
TZOFFSETFROM:-0500
TZOFFSETTO:-0600
TZNAME:CST
DTSTART:20251102T070000
END:STANDARD
END:VTIMEZONE
BEGIN:VEVENT
DTSTART;TZID=America/Chicago:20241026T080000
DTEND;TZID=America/Chicago:20241026T093000
DTSTAMP:20260423T041322
CREATED:20240509T161421Z
LAST-MODIFIED:20240509T161421Z
UID:755-1729929600-1729935000@hod.pca.org
SUMMARY:HOD Porsches & Coffee - Rooster's Crow Coffee Roasters
DESCRIPTION:Bring your Porsche(s). Get a coffee and sweet. Have a nice chat and get a great start to your weekend. They have good coffee\, breakfast pastries\, ample indoor seating\, and lots of parking.
URL:https://hod.pca.org/event/hod-porsches-coffee-roosters-crow-coffee-roasters/
LOCATION:Rooster’s Crow Coffee Roasters\, 8402 Whitesburg Dr\, Bldg H\, Huntsville\, AL\, 35802\, United States
END:VEVENT
END:VCALENDAR