BEGIN:VCALENDAR
VERSION:2.0
PRODID:-// - ECPv6.15.20//NONSGML v1.0//EN
CALSCALE:GREGORIAN
METHOD:PUBLISH
X-ORIGINAL-URL:https://hod.pca.org
X-WR-CALDESC:Events for 
REFRESH-INTERVAL;VALUE=DURATION:PT1H
X-Robots-Tag:noindex
X-PUBLISHED-TTL:PT1H
BEGIN:VTIMEZONE
TZID:America/Chicago
BEGIN:DAYLIGHT
TZOFFSETFROM:-0600
TZOFFSETTO:-0500
TZNAME:CDT
DTSTART:20230312T080000
END:DAYLIGHT
BEGIN:STANDARD
TZOFFSETFROM:-0500
TZOFFSETTO:-0600
TZNAME:CST
DTSTART:20231105T070000
END:STANDARD
BEGIN:DAYLIGHT
TZOFFSETFROM:-0600
TZOFFSETTO:-0500
TZNAME:CDT
DTSTART:20240310T080000
END:DAYLIGHT
BEGIN:STANDARD
TZOFFSETFROM:-0500
TZOFFSETTO:-0600
TZNAME:CST
DTSTART:20241103T070000
END:STANDARD
BEGIN:DAYLIGHT
TZOFFSETFROM:-0600
TZOFFSETTO:-0500
TZNAME:CDT
DTSTART:20250309T080000
END:DAYLIGHT
BEGIN:STANDARD
TZOFFSETFROM:-0500
TZOFFSETTO:-0600
TZNAME:CST
DTSTART:20251102T070000
END:STANDARD
END:VTIMEZONE
BEGIN:VEVENT
DTSTART;TZID=America/Chicago:20241027T073000
DTEND;TZID=America/Chicago:20241027T100000
DTSTAMP:20260423T040022
CREATED:20241024T144524Z
LAST-MODIFIED:20241024T144524Z
UID:820-1730014200-1730023200@hod.pca.org
SUMMARY:EuroSunday Car Show
DESCRIPTION:Membership Chairman Greg Bayuga and Jim Cambron will staff a Hospitality Display including the new club banner and our flag.  We could use your help distributing tri-fold pamphlets. Arrive early and we can fill the front row with Porsches.
URL:https://hod.pca.org/event/eurosunday-car-show/
LOCATION:Lincoln Mill/Turbo Coffee\, 1300 Meridian St N\, Huntsville\, AL\, 35801\, United States
END:VEVENT
END:VCALENDAR