BEGIN:VCALENDAR
VERSION:2.0
PRODID:-// - ECPv6.15.20//NONSGML v1.0//EN
CALSCALE:GREGORIAN
METHOD:PUBLISH
X-ORIGINAL-URL:https://hod.pca.org
X-WR-CALDESC:Events for 
REFRESH-INTERVAL;VALUE=DURATION:PT1H
X-Robots-Tag:noindex
X-PUBLISHED-TTL:PT1H
BEGIN:VTIMEZONE
TZID:America/Chicago
BEGIN:DAYLIGHT
TZOFFSETFROM:-0600
TZOFFSETTO:-0500
TZNAME:CDT
DTSTART:20240310T080000
END:DAYLIGHT
BEGIN:STANDARD
TZOFFSETFROM:-0500
TZOFFSETTO:-0600
TZNAME:CST
DTSTART:20241103T070000
END:STANDARD
BEGIN:DAYLIGHT
TZOFFSETFROM:-0600
TZOFFSETTO:-0500
TZNAME:CDT
DTSTART:20250309T080000
END:DAYLIGHT
BEGIN:STANDARD
TZOFFSETFROM:-0500
TZOFFSETTO:-0600
TZNAME:CST
DTSTART:20251102T070000
END:STANDARD
BEGIN:DAYLIGHT
TZOFFSETFROM:-0600
TZOFFSETTO:-0500
TZNAME:CDT
DTSTART:20260308T080000
END:DAYLIGHT
BEGIN:STANDARD
TZOFFSETFROM:-0500
TZOFFSETTO:-0600
TZNAME:CST
DTSTART:20261101T070000
END:STANDARD
END:VTIMEZONE
BEGIN:VEVENT
DTSTART;TZID=America/Chicago:20250125T080000
DTEND;TZID=America/Chicago:20250125T120000
DTSTAMP:20260422T201059
CREATED:20241101T215553Z
LAST-MODIFIED:20241205T181115Z
UID:853-1737792000-1737806400@hod.pca.org
SUMMARY:HOD Driving Tour - Ricatoni's Italian Grill - Cambron
DESCRIPTION:8:00 AM assemble at Planet Fitness parking lot\, Madison (corner of Wall Triana and 72W) for Drivers Safety Briefing and route guidance. Depart promptly at 8:30 AM for tour with lunch at Ricatoni’s Italian Grill in Florence\, 107 N Court St. Tour length ~ 150 miles.
URL:https://hod.pca.org/event/porsches-coffee-pjs-coffee/
LOCATION:Planet Fitness Madison\, 8050 Hwy 72 W\, Madison\, AL\, 35758
END:VEVENT
END:VCALENDAR