BEGIN:VCALENDAR
VERSION:2.0
PRODID:-// - ECPv6.15.20//NONSGML v1.0//EN
CALSCALE:GREGORIAN
METHOD:PUBLISH
X-ORIGINAL-URL:https://hod.pca.org
X-WR-CALDESC:Events for 
REFRESH-INTERVAL;VALUE=DURATION:PT1H
X-Robots-Tag:noindex
X-PUBLISHED-TTL:PT1H
BEGIN:VTIMEZONE
TZID:America/Chicago
BEGIN:DAYLIGHT
TZOFFSETFROM:-0600
TZOFFSETTO:-0500
TZNAME:CDT
DTSTART:20240310T080000
END:DAYLIGHT
BEGIN:STANDARD
TZOFFSETFROM:-0500
TZOFFSETTO:-0600
TZNAME:CST
DTSTART:20241103T070000
END:STANDARD
BEGIN:DAYLIGHT
TZOFFSETFROM:-0600
TZOFFSETTO:-0500
TZNAME:CDT
DTSTART:20250309T080000
END:DAYLIGHT
BEGIN:STANDARD
TZOFFSETFROM:-0500
TZOFFSETTO:-0600
TZNAME:CST
DTSTART:20251102T070000
END:STANDARD
BEGIN:DAYLIGHT
TZOFFSETFROM:-0600
TZOFFSETTO:-0500
TZNAME:CDT
DTSTART:20260308T080000
END:DAYLIGHT
BEGIN:STANDARD
TZOFFSETFROM:-0500
TZOFFSETTO:-0600
TZNAME:CST
DTSTART:20261101T070000
END:STANDARD
END:VTIMEZONE
BEGIN:VEVENT
DTSTART;TZID=America/Chicago:20250517T080000
DTEND;TZID=America/Chicago:20250517T120000
DTSTAMP:20260422T122503
CREATED:20241206T174721Z
LAST-MODIFIED:20241206T174721Z
UID:905-1747468800-1747483200@hod.pca.org
SUMMARY:HOD Driving Tour to Legends Steakhouse - Schroetter
DESCRIPTION:8:00 AM – Assemble at the Sunoco Service Station just east of US72 E and Moores Mill intersection for Drivers Safety Meeting and route guidance. Depart promptly at 8:30 AM for a backroads tour to Legends Steakhouse\, 1609 Main St\, Shelbyville\, TN.
URL:https://hod.pca.org/event/hod-driving-tour-to-legends-steakhouse-schroetter/
LOCATION:Sunoco Service Station\, 1604 US72 E\, Huntsville\, AL\, 35811\, United States
END:VEVENT
END:VCALENDAR