BEGIN:VCALENDAR
VERSION:2.0
PRODID:-// - ECPv6.15.20//NONSGML v1.0//EN
CALSCALE:GREGORIAN
METHOD:PUBLISH
X-ORIGINAL-URL:https://hod.pca.org
X-WR-CALDESC:Events for 
REFRESH-INTERVAL;VALUE=DURATION:PT1H
X-Robots-Tag:noindex
X-PUBLISHED-TTL:PT1H
BEGIN:VTIMEZONE
TZID:America/New_York
BEGIN:DAYLIGHT
TZOFFSETFROM:-0500
TZOFFSETTO:-0400
TZNAME:EDT
DTSTART:20240310T070000
END:DAYLIGHT
BEGIN:STANDARD
TZOFFSETFROM:-0400
TZOFFSETTO:-0500
TZNAME:EST
DTSTART:20241103T060000
END:STANDARD
BEGIN:DAYLIGHT
TZOFFSETFROM:-0500
TZOFFSETTO:-0400
TZNAME:EDT
DTSTART:20250309T070000
END:DAYLIGHT
BEGIN:STANDARD
TZOFFSETFROM:-0400
TZOFFSETTO:-0500
TZNAME:EST
DTSTART:20251102T060000
END:STANDARD
BEGIN:DAYLIGHT
TZOFFSETFROM:-0500
TZOFFSETTO:-0400
TZNAME:EDT
DTSTART:20260308T070000
END:DAYLIGHT
BEGIN:STANDARD
TZOFFSETFROM:-0400
TZOFFSETTO:-0500
TZNAME:EST
DTSTART:20261101T060000
END:STANDARD
END:VTIMEZONE
BEGIN:VEVENT
DTSTART;TZID=America/New_York:20250607T070000
DTEND;TZID=America/New_York:20250607T090000
DTSTAMP:20260422T122511
CREATED:20250130T152249Z
LAST-MODIFIED:20250130T152249Z
UID:957-1749279600-1749286800@hod.pca.org
SUMMARY:HOD Pit Stop Social and Breakfast - Just Love Coffee Cafe
DESCRIPTION:7:00 AM meet in parking lot; 7:30 AM go inside for breakfast. Don’t forget to bring your food and/or paper products for the North Alabama Food Bank.
URL:https://hod.pca.org/event/hod-pit-stop-social-and-breakfast-just-love-coffee-cafe/
LOCATION:Just Love Coffee Cafe\, 181 Hughes Rd\, Madison\, TN\, United States
END:VEVENT
END:VCALENDAR