BEGIN:VCALENDAR
VERSION:2.0
PRODID:-// - ECPv6.15.20//NONSGML v1.0//EN
CALSCALE:GREGORIAN
METHOD:PUBLISH
X-ORIGINAL-URL:https://hod.pca.org
X-WR-CALDESC:Events for 
REFRESH-INTERVAL;VALUE=DURATION:PT1H
X-Robots-Tag:noindex
X-PUBLISHED-TTL:PT1H
BEGIN:VTIMEZONE
TZID:America/Chicago
BEGIN:DAYLIGHT
TZOFFSETFROM:-0600
TZOFFSETTO:-0500
TZNAME:CDT
DTSTART:20240310T080000
END:DAYLIGHT
BEGIN:STANDARD
TZOFFSETFROM:-0500
TZOFFSETTO:-0600
TZNAME:CST
DTSTART:20241103T070000
END:STANDARD
BEGIN:DAYLIGHT
TZOFFSETFROM:-0600
TZOFFSETTO:-0500
TZNAME:CDT
DTSTART:20250309T080000
END:DAYLIGHT
BEGIN:STANDARD
TZOFFSETFROM:-0500
TZOFFSETTO:-0600
TZNAME:CST
DTSTART:20251102T070000
END:STANDARD
BEGIN:DAYLIGHT
TZOFFSETFROM:-0600
TZOFFSETTO:-0500
TZNAME:CDT
DTSTART:20260308T080000
END:DAYLIGHT
BEGIN:STANDARD
TZOFFSETFROM:-0500
TZOFFSETTO:-0600
TZNAME:CST
DTSTART:20261101T070000
END:STANDARD
END:VTIMEZONE
BEGIN:VEVENT
DTSTART;TZID=America/Chicago:20250621T080000
DTEND;TZID=America/Chicago:20250621T120000
DTSTAMP:20260422T160657
CREATED:20250205T135925Z
LAST-MODIFIED:20250424T135239Z
UID:968-1750492800-1750507200@hod.pca.org
SUMMARY:HOD Driving Tour - Loretta Lynn's Kitchen TN - LeClaire
DESCRIPTION:8:00AM assemble at the Madison Planet Fitness\, 8050 Hwy 72 (Hwy 72 & Wall Triana) and depart promptly at 8:30AM as Rich LeClaire hosts a Driving Tour to Loretta Lynn’s Kitchen\, 15366 TN-13\, Hurricane Mills for lunch.  This is a lengthy tour with two rest stops to the famous kitchen west of Nashville.  Return individually after lunch to Huntsville\, about 280 miles roundtrip\, depending on your route back.
URL:https://hod.pca.org/event/hod-driving-tour-milky-way-farm-bayuga/
LOCATION:Loretta Lynn’s Kitchen\, 15366 TN 13\, Hurricane Mills\, TN\, United States
END:VEVENT
END:VCALENDAR