BEGIN:VCALENDAR
VERSION:2.0
PRODID:-// - ECPv6.15.20//NONSGML v1.0//EN
CALSCALE:GREGORIAN
METHOD:PUBLISH
X-ORIGINAL-URL:https://hod.pca.org
X-WR-CALDESC:Events for 
REFRESH-INTERVAL;VALUE=DURATION:PT1H
X-Robots-Tag:noindex
X-PUBLISHED-TTL:PT1H
BEGIN:VTIMEZONE
TZID:America/Chicago
BEGIN:DAYLIGHT
TZOFFSETFROM:-0600
TZOFFSETTO:-0500
TZNAME:CDT
DTSTART:20240310T080000
END:DAYLIGHT
BEGIN:STANDARD
TZOFFSETFROM:-0500
TZOFFSETTO:-0600
TZNAME:CST
DTSTART:20241103T070000
END:STANDARD
BEGIN:DAYLIGHT
TZOFFSETFROM:-0600
TZOFFSETTO:-0500
TZNAME:CDT
DTSTART:20250309T080000
END:DAYLIGHT
BEGIN:STANDARD
TZOFFSETFROM:-0500
TZOFFSETTO:-0600
TZNAME:CST
DTSTART:20251102T070000
END:STANDARD
BEGIN:DAYLIGHT
TZOFFSETFROM:-0600
TZOFFSETTO:-0500
TZNAME:CDT
DTSTART:20260308T080000
END:DAYLIGHT
BEGIN:STANDARD
TZOFFSETFROM:-0500
TZOFFSETTO:-0600
TZNAME:CST
DTSTART:20261101T070000
END:STANDARD
END:VTIMEZONE
BEGIN:VEVENT
DTSTART;TZID=America/Chicago:20251207T150000
DTEND;TZID=America/Chicago:20251207T163000
DTSTAMP:20260421T145046
CREATED:20241206T182556Z
LAST-MODIFIED:20251023T172056Z
UID:928-1765119600-1765125000@hod.pca.org
SUMMARY:HOD Annual Business Meeting - Century Porsche
DESCRIPTION:Assemble at 3:00 PM for Annual Business Meeting at Century Jaguar/Land Rover Showroom. Inaugurate 2026 Club Officers\, receive a State of the Dealership update\, award Enthusiast of the Year\, donate to Toys for Tots\, and distribute door prizes. Followed by Holiday Dinner at Valley Hill Country Club.
URL:https://hod.pca.org/event/hod-annual-business-meeting-century-porsche/
LOCATION:Century Porsche\, 3810 University Dr NW\, Huntsville\, AL\, 35816\, United States
END:VEVENT
BEGIN:VEVENT
DTSTART;TZID=America/Chicago:20251207T163000
DTEND;TZID=America/Chicago:20251207T190000
DTSTAMP:20260421T145046
CREATED:20241206T183102Z
LAST-MODIFIED:20241206T183102Z
UID:932-1765125000-1765134000@hod.pca.org
SUMMARY:HOD Holiday Dinner - Valley Hill Country Club
DESCRIPTION:Social hour followed by Holiday Dinner 5:30 PM – 7:00 PM.
URL:https://hod.pca.org/event/hod-holiday-dinner-valley-hill-country-club/
LOCATION:Valley Hill Country Club\, 8300 Valley Hill Dr SE\, Huntsville\, AL\, 35802\, United States
END:VEVENT
END:VCALENDAR