BEGIN:VCALENDAR
VERSION:2.0
PRODID:-// - ECPv6.15.20//NONSGML v1.0//EN
CALSCALE:GREGORIAN
METHOD:PUBLISH
X-ORIGINAL-URL:https://hod.pca.org
X-WR-CALDESC:Events for 
REFRESH-INTERVAL;VALUE=DURATION:PT1H
X-Robots-Tag:noindex
X-PUBLISHED-TTL:PT1H
BEGIN:VTIMEZONE
TZID:America/Chicago
BEGIN:DAYLIGHT
TZOFFSETFROM:-0600
TZOFFSETTO:-0500
TZNAME:CDT
DTSTART:20250309T080000
END:DAYLIGHT
BEGIN:STANDARD
TZOFFSETFROM:-0500
TZOFFSETTO:-0600
TZNAME:CST
DTSTART:20251102T070000
END:STANDARD
BEGIN:DAYLIGHT
TZOFFSETFROM:-0600
TZOFFSETTO:-0500
TZNAME:CDT
DTSTART:20260308T080000
END:DAYLIGHT
BEGIN:STANDARD
TZOFFSETFROM:-0500
TZOFFSETTO:-0600
TZNAME:CST
DTSTART:20261101T070000
END:STANDARD
BEGIN:DAYLIGHT
TZOFFSETFROM:-0600
TZOFFSETTO:-0500
TZNAME:CDT
DTSTART:20270314T080000
END:DAYLIGHT
BEGIN:STANDARD
TZOFFSETFROM:-0500
TZOFFSETTO:-0600
TZNAME:CST
DTSTART:20271107T070000
END:STANDARD
END:VTIMEZONE
BEGIN:VEVENT
DTSTART;TZID=America/Chicago:20260222T073000
DTEND;TZID=America/Chicago:20260222T100000
DTSTAMP:20260421T122132
CREATED:20260220T142206Z
LAST-MODIFIED:20260220T142206Z
UID:1309-1771745400-1771754400@hod.pca.org
SUMMARY:EuroSunday - Pop-Up Event
DESCRIPTION:Not an official HOD PCA event.  Follow EuroSunday Huntsville on Facebook or check their website for full details and possible changes. EuroSunday events are usually held at Turbo Coffee located at Lincoln Mill.
URL:https://hod.pca.org/event/eurosunday-pop-up-event/
LOCATION:Lincoln Mill/Turbo Coffee\, 1300 Meridian St N\, Huntsville\, AL\, 35801\, United States
CATEGORIES:Car Show
END:VEVENT
END:VCALENDAR