BEGIN:VCALENDAR
VERSION:2.0
PRODID:-// - ECPv6.15.20//NONSGML v1.0//EN
CALSCALE:GREGORIAN
METHOD:PUBLISH
X-ORIGINAL-URL:https://hod.pca.org
X-WR-CALDESC:Events for 
REFRESH-INTERVAL;VALUE=DURATION:PT1H
X-Robots-Tag:noindex
X-PUBLISHED-TTL:PT1H
BEGIN:VTIMEZONE
TZID:America/Chicago
BEGIN:DAYLIGHT
TZOFFSETFROM:-0600
TZOFFSETTO:-0500
TZNAME:CDT
DTSTART:20250309T080000
END:DAYLIGHT
BEGIN:STANDARD
TZOFFSETFROM:-0500
TZOFFSETTO:-0600
TZNAME:CST
DTSTART:20251102T070000
END:STANDARD
BEGIN:DAYLIGHT
TZOFFSETFROM:-0600
TZOFFSETTO:-0500
TZNAME:CDT
DTSTART:20260308T080000
END:DAYLIGHT
BEGIN:STANDARD
TZOFFSETFROM:-0500
TZOFFSETTO:-0600
TZNAME:CST
DTSTART:20261101T070000
END:STANDARD
BEGIN:DAYLIGHT
TZOFFSETFROM:-0600
TZOFFSETTO:-0500
TZNAME:CDT
DTSTART:20270314T080000
END:DAYLIGHT
BEGIN:STANDARD
TZOFFSETFROM:-0500
TZOFFSETTO:-0600
TZNAME:CST
DTSTART:20271107T070000
END:STANDARD
END:VTIMEZONE
BEGIN:VEVENT
DTSTART;TZID=America/Chicago:20260329T073000
DTEND;TZID=America/Chicago:20260329T100000
DTSTAMP:20260421T105904
CREATED:20260115T143036Z
LAST-MODIFIED:20260220T142956Z
UID:1177-1774769400-1774778400@hod.pca.org
SUMMARY:EuroSunday
DESCRIPTION:**not an official HOD PCA event \nNOTE: This event is in a different location than usual for EuroSunday.  It is at the Century Collision Center \nEuroSunday kicks off the new year with their first official event of 2026. Food\, Drink\, and Merch will be available. In addition to meeting other Porsche owners\, you will have an opportunity to review the exquisite design and camaraderie associated with a variety of European automobiles until about 10:00AM. \nWhile many of our Club members will be in attendance\, this is not an Enthusiast of the Year event.
URL:https://hod.pca.org/event/eurosunday/
LOCATION:Century Collision Center\, 1008 Jordan Lane\, Huntsville\, AL\, 35816\, United States
CATEGORIES:Car Show
END:VEVENT
END:VCALENDAR