BEGIN:VCALENDAR
VERSION:2.0
PRODID:-// - ECPv6.15.20//NONSGML v1.0//EN
CALSCALE:GREGORIAN
METHOD:PUBLISH
X-ORIGINAL-URL:https://hod.pca.org
X-WR-CALDESC:Events for 
REFRESH-INTERVAL;VALUE=DURATION:PT1H
X-Robots-Tag:noindex
X-PUBLISHED-TTL:PT1H
BEGIN:VTIMEZONE
TZID:America/Chicago
BEGIN:DAYLIGHT
TZOFFSETFROM:-0600
TZOFFSETTO:-0500
TZNAME:CDT
DTSTART:20250309T080000
END:DAYLIGHT
BEGIN:STANDARD
TZOFFSETFROM:-0500
TZOFFSETTO:-0600
TZNAME:CST
DTSTART:20251102T070000
END:STANDARD
BEGIN:DAYLIGHT
TZOFFSETFROM:-0600
TZOFFSETTO:-0500
TZNAME:CDT
DTSTART:20260308T080000
END:DAYLIGHT
BEGIN:STANDARD
TZOFFSETFROM:-0500
TZOFFSETTO:-0600
TZNAME:CST
DTSTART:20261101T070000
END:STANDARD
BEGIN:DAYLIGHT
TZOFFSETFROM:-0600
TZOFFSETTO:-0500
TZNAME:CDT
DTSTART:20270314T080000
END:DAYLIGHT
BEGIN:STANDARD
TZOFFSETFROM:-0500
TZOFFSETTO:-0600
TZNAME:CST
DTSTART:20271107T070000
END:STANDARD
END:VTIMEZONE
BEGIN:VEVENT
DTSTART;TZID=America/Chicago:20260307T070000
DTEND;TZID=America/Chicago:20260307T090000
DTSTAMP:20260421T144245
CREATED:20260106T174046Z
LAST-MODIFIED:20260118T022841Z
UID:1161-1772866800-1772874000@hod.pca.org
SUMMARY:HOD Pit Stop Social and Breakfast – West Madison IHOP
DESCRIPTION:7:00 AM – Social in parking lot.\n7:30 AM – Breakfast inside as desired. Don’t forget to bring a food item for your contribution to the North Alabama Food Bank.
URL:https://hod.pca.org/event/hod-pit-stop-social-and-breakfast-west-madison-ihop/
LOCATION:IHOP\, 8622 Hwy 72 W\, Madison\, AL\, 35758\, United States
CATEGORIES:Pit Stop Breakfast,Social
END:VEVENT
BEGIN:VEVENT
DTSTART;TZID=America/Chicago:20260312T180000
DTEND;TZID=America/Chicago:20260312T200000
DTSTAMP:20260421T144245
CREATED:20260106T174931Z
LAST-MODIFIED:20260116T160826Z
UID:1167-1773338400-1773345600@hod.pca.org
SUMMARY:HOD Monthly Members Dinner Meeting – Old Greenbrier
DESCRIPTION:6:00PM\, assemble in the parking lot; move inside at 6:30PM for dinner. Please call or text our Club Social Chair Melanie Nord (256) 683-0863 for dinner reservations.
URL:https://hod.pca.org/event/hod-monthly-members-dinner-meeting-old-greenbrier/
LOCATION:Old Greenbrier Restaurant\, 27028 Old Highway 20\, Madison\, AL\, 35756\, United States
CATEGORIES:Member Dinner,Social
END:VEVENT
BEGIN:VEVENT
DTSTART;TZID=America/Chicago:20260328T080000
DTEND;TZID=America/Chicago:20260328T093000
DTSTAMP:20260421T144245
CREATED:20260115T142748Z
LAST-MODIFIED:20260115T142748Z
UID:1175-1774684800-1774690200@hod.pca.org
SUMMARY:HOD Porsches & Coffee - PJ's New Orleans Coffee
DESCRIPTION:Please park in their parking lot.  DO NOT park behind the buildings in the shopping center west of their parking lot. \nBring your Porsche(s). Get a coffee and sweet. Have a nice chat and get a great start to your weekend.
URL:https://hod.pca.org/event/hod-porsches-coffee-pjs-new-orleans-coffee-2/
LOCATION:PJ’s Coffee Madison\, 243 Browns Ferry Rd\, Madison\, AL\, 35858\, United States
CATEGORIES:Porsches & Coffee,Social
END:VEVENT
END:VCALENDAR