BEGIN:VCALENDAR
VERSION:2.0
PRODID:-// - ECPv6.15.20//NONSGML v1.0//EN
CALSCALE:GREGORIAN
METHOD:PUBLISH
X-ORIGINAL-URL:https://hod.pca.org
X-WR-CALDESC:Events for 
REFRESH-INTERVAL;VALUE=DURATION:PT1H
X-Robots-Tag:noindex
X-PUBLISHED-TTL:PT1H
BEGIN:VTIMEZONE
TZID:America/Chicago
BEGIN:DAYLIGHT
TZOFFSETFROM:-0600
TZOFFSETTO:-0500
TZNAME:CDT
DTSTART:20250309T080000
END:DAYLIGHT
BEGIN:STANDARD
TZOFFSETFROM:-0500
TZOFFSETTO:-0600
TZNAME:CST
DTSTART:20251102T070000
END:STANDARD
BEGIN:DAYLIGHT
TZOFFSETFROM:-0600
TZOFFSETTO:-0500
TZNAME:CDT
DTSTART:20260308T080000
END:DAYLIGHT
BEGIN:STANDARD
TZOFFSETFROM:-0500
TZOFFSETTO:-0600
TZNAME:CST
DTSTART:20261101T070000
END:STANDARD
BEGIN:DAYLIGHT
TZOFFSETFROM:-0600
TZOFFSETTO:-0500
TZNAME:CDT
DTSTART:20270314T080000
END:DAYLIGHT
BEGIN:STANDARD
TZOFFSETFROM:-0500
TZOFFSETTO:-0600
TZNAME:CST
DTSTART:20271107T070000
END:STANDARD
END:VTIMEZONE
BEGIN:VEVENT
DTSTART;TZID=America/Chicago:20260425T160000
DTEND;TZID=America/Chicago:20260425T200000
DTSTAMP:20260421T105456
CREATED:20260115T145924Z
LAST-MODIFIED:20260220T143140Z
UID:1192-1777132800-1777147200@hod.pca.org
SUMMARY:65th Anniversary Celebration - Valley Hill Country Club
DESCRIPTION:4:00-5:00PM – Arrival & parking by Porsche Model\n5:00-6:00PM – Complementary Reception with two tickets per person for the open bar serving wine\, beer\, sodas\, tea & coffee.\n6:00-8:00PM – 65th Celebration Dinner\, Anniversary Cake\, Decals\, Grill Badges\, & Polo Shirts
URL:https://hod.pca.org/event/65th-anniversary-celebration-valley-hill-country-club/
LOCATION:Valley Hill Country Club\, 8300 Valley Hill Dr SE\, Huntsville\, AL\, 35802\, United States
CATEGORIES:Member Dinner,Social
END:VEVENT
END:VCALENDAR