BEGIN:VCALENDAR
VERSION:2.0
PRODID:-// - ECPv6.15.20//NONSGML v1.0//EN
CALSCALE:GREGORIAN
METHOD:PUBLISH
X-ORIGINAL-URL:https://hod.pca.org
X-WR-CALDESC:Events for 
REFRESH-INTERVAL;VALUE=DURATION:PT1H
X-Robots-Tag:noindex
X-PUBLISHED-TTL:PT1H
BEGIN:VTIMEZONE
TZID:America/Chicago
BEGIN:DAYLIGHT
TZOFFSETFROM:-0600
TZOFFSETTO:-0500
TZNAME:CDT
DTSTART:20250309T080000
END:DAYLIGHT
BEGIN:STANDARD
TZOFFSETFROM:-0500
TZOFFSETTO:-0600
TZNAME:CST
DTSTART:20251102T070000
END:STANDARD
BEGIN:DAYLIGHT
TZOFFSETFROM:-0600
TZOFFSETTO:-0500
TZNAME:CDT
DTSTART:20260308T080000
END:DAYLIGHT
BEGIN:STANDARD
TZOFFSETFROM:-0500
TZOFFSETTO:-0600
TZNAME:CST
DTSTART:20261101T070000
END:STANDARD
BEGIN:DAYLIGHT
TZOFFSETFROM:-0600
TZOFFSETTO:-0500
TZNAME:CDT
DTSTART:20270314T080000
END:DAYLIGHT
BEGIN:STANDARD
TZOFFSETFROM:-0500
TZOFFSETTO:-0600
TZNAME:CST
DTSTART:20271107T070000
END:STANDARD
END:VTIMEZONE
BEGIN:VEVENT
DTSTART;TZID=America/Chicago:20260514T180000
DTEND;TZID=America/Chicago:20260514T200000
DTSTAMP:20260422T173704
CREATED:20260116T170149Z
LAST-MODIFIED:20260116T170149Z
UID:1213-1778781600-1778788800@hod.pca.org
SUMMARY:HOD Monthly Members Dinner Meeting - The Village of Providence
DESCRIPTION:Join the Porsche Display on the Providence Commons as our Monthly Membership Dinner Meeting.  Select your dinner from the various Providence restaurants and return to the Commons for a picnic\, bring lawn chairs\, and mini tables as needed.
URL:https://hod.pca.org/event/hod-monthly-members-dinner-meeting-the-village-of-providence/
LOCATION:The Village of Providence\, 445 Providence Main St\, Huntsville\, AL\, 35806\, United States
CATEGORIES:Member Dinner,Social
END:VEVENT
BEGIN:VEVENT
DTSTART;TZID=America/Chicago:20260530T080000
DTEND;TZID=America/Chicago:20260530T093000
DTSTAMP:20260422T173704
CREATED:20260116T171028Z
LAST-MODIFIED:20260116T171028Z
UID:1217-1780128000-1780133400@hod.pca.org
SUMMARY:HOD Porsches & Coffee - Honest Coffee Roasters
DESCRIPTION:Porsches & Coffee hosted by Cambron at Honest Coffee Roasters\, 92 Shorter St.\, Madison\, just off Sullivan St.  There is plenty of parking in the lot just south of the shop. \nBring your Porsche(s). Get a coffee and sweet. Have a nice chat and get a great start to your weekend.
URL:https://hod.pca.org/event/hod-porsches-coffee-honest-coffee-roasters-2/
LOCATION:Honest Coffee Roasters\, 92 Shorter Street\, Madison\, AL
CATEGORIES:Porsches & Coffee,Social
END:VEVENT
END:VCALENDAR