BEGIN:VCALENDAR
VERSION:2.0
PRODID:-// - ECPv6.15.20//NONSGML v1.0//EN
CALSCALE:GREGORIAN
METHOD:PUBLISH
X-ORIGINAL-URL:https://hod.pca.org
X-WR-CALDESC:Events for 
REFRESH-INTERVAL;VALUE=DURATION:PT1H
X-Robots-Tag:noindex
X-PUBLISHED-TTL:PT1H
BEGIN:VTIMEZONE
TZID:America/Chicago
BEGIN:DAYLIGHT
TZOFFSETFROM:-0600
TZOFFSETTO:-0500
TZNAME:CDT
DTSTART:20240310T080000
END:DAYLIGHT
BEGIN:STANDARD
TZOFFSETFROM:-0500
TZOFFSETTO:-0600
TZNAME:CST
DTSTART:20241103T070000
END:STANDARD
BEGIN:DAYLIGHT
TZOFFSETFROM:-0600
TZOFFSETTO:-0500
TZNAME:CDT
DTSTART:20250309T080000
END:DAYLIGHT
BEGIN:STANDARD
TZOFFSETFROM:-0500
TZOFFSETTO:-0600
TZNAME:CST
DTSTART:20251102T070000
END:STANDARD
BEGIN:DAYLIGHT
TZOFFSETFROM:-0600
TZOFFSETTO:-0500
TZNAME:CDT
DTSTART:20260308T080000
END:DAYLIGHT
BEGIN:STANDARD
TZOFFSETFROM:-0500
TZOFFSETTO:-0600
TZNAME:CST
DTSTART:20261101T070000
END:STANDARD
END:VTIMEZONE
BEGIN:VTIMEZONE
TZID:America/New_York
BEGIN:DAYLIGHT
TZOFFSETFROM:-0500
TZOFFSETTO:-0400
TZNAME:EDT
DTSTART:20240310T070000
END:DAYLIGHT
BEGIN:STANDARD
TZOFFSETFROM:-0400
TZOFFSETTO:-0500
TZNAME:EST
DTSTART:20241103T060000
END:STANDARD
BEGIN:DAYLIGHT
TZOFFSETFROM:-0500
TZOFFSETTO:-0400
TZNAME:EDT
DTSTART:20250309T070000
END:DAYLIGHT
BEGIN:STANDARD
TZOFFSETFROM:-0400
TZOFFSETTO:-0500
TZNAME:EST
DTSTART:20251102T060000
END:STANDARD
BEGIN:DAYLIGHT
TZOFFSETFROM:-0500
TZOFFSETTO:-0400
TZNAME:EDT
DTSTART:20260308T070000
END:DAYLIGHT
BEGIN:STANDARD
TZOFFSETFROM:-0400
TZOFFSETTO:-0500
TZNAME:EST
DTSTART:20261101T060000
END:STANDARD
END:VTIMEZONE
BEGIN:VEVENT
DTSTART;TZID=America/Chicago:20250405T070000
DTEND;TZID=America/Chicago:20250405T090000
DTSTAMP:20260422T171746
CREATED:20241031T133000Z
LAST-MODIFIED:20241031T133000Z
UID:847-1743836400-1743843600@hod.pca.org
SUMMARY:HOD Pit Stop Social and Breakfast - Biscuit Belly
DESCRIPTION:7:00 AM – Social in parking lot. 7:30 AM – Breakfast inside as desired. Don’t forget to bring a food item for your contribution to the North Alabama Food Bank.
URL:https://hod.pca.org/event/hod-pit-stop-social-and-breakfast-biscuit-belly/
LOCATION:Biscuit Belly\, 2710 Carl T Jones Dr SE E\, Huntsville\, AL\, 35802\, United States
END:VEVENT
BEGIN:VEVENT
DTSTART;TZID=America/New_York:20250410T180000
DTEND;TZID=America/New_York:20250410T200000
DTSTAMP:20260422T171746
CREATED:20241031T133523Z
LAST-MODIFIED:20241031T133523Z
UID:849-1744308000-1744315200@hod.pca.org
SUMMARY:HOD Monthly Members Dinner Meeting - Red Robin Jones Valley
DESCRIPTION:6:00PM\, assemble in the parking lot at Red Robin Jones Valley; move inside at 6:30PM for dinner. Please call or text our Club Social Chair Melanie Nord (256) 683-0863 for dinner reservations.
URL:https://hod.pca.org/event/hod-monthly-members-dinner-meeting-red-robin-jones-valley/
LOCATION:Red Robin Jones Valley\, 2720 Carl T Jones Dr SE\, Huntsville
END:VEVENT
BEGIN:VEVENT
DTSTART;TZID=America/Chicago:20250419T080000
DTEND;TZID=America/Chicago:20250419T120000
DTSTAMP:20260422T171746
CREATED:20241101T223543Z
LAST-MODIFIED:20241101T223543Z
UID:869-1745049600-1745064000@hod.pca.org
SUMMARY:HOD Driving Tour - Hartselle Freight House Restaurant - Harding
DESCRIPTION:8:00AM assemble in the “way south” Walmart parking lot\, 11610 Memorial Pkwy SW for Drivers Safety Meeting and route guidance for the Jack Harding Driving Tour to the Hartselle Freight House Restaurant. Depart promptly at 8:30AM for a 39-mile (just under an hour) first leg to the Mobile Gas Station in Cullman and a 20–30-minute Rest Stop.  The second leg is 50-miles (1-1/4 hours) to the restaurant for lunch\, Freight House Restaurant\, 200 Railroad St.\, SW\, Hartselle.  It’s only 35 miles north on I-65/I-565 to Huntsville for a total tour distance of 125 miles\, depending on your residence location.
URL:https://hod.pca.org/event/hod-driving-tour-hartselle-freight-house-restaurant-harding/
LOCATION:Walmart Southeast Plaza\, 11610 Memorial Pkwy SW\, Huntsville\, AL\, 35803\, United States
END:VEVENT
BEGIN:VEVENT
DTSTART;TZID=America/New_York:20250426T080000
DTEND;TZID=America/New_York:20250426T093000
DTSTAMP:20260422T171746
CREATED:20241101T224126Z
LAST-MODIFIED:20250424T134524Z
UID:871-1745654400-1745659800@hod.pca.org
SUMMARY:HOD Porsches & Coffee - Dunkin' Donuts Athens
DESCRIPTION:Bring your Porsche(s). Get a coffee and sweet. Have a nice chat and get a great start to your weekend.
URL:https://hod.pca.org/event/hod-porsches-coffee-big-foots-little-donuts-2/
LOCATION:Dunkin Donuts Athens\, 1700 US 72E\, Athens\, AL\, United States
END:VEVENT
BEGIN:VEVENT
DTSTART;TZID=America/Chicago:20250427T073000
DTEND;TZID=America/Chicago:20250427T223000
DTSTAMP:20260422T171746
CREATED:20250205T134559Z
LAST-MODIFIED:20250205T134559Z
UID:962-1745739000-1745793000@hod.pca.org
SUMMARY:EuroSunday - Cars & Coffee
DESCRIPTION:Porsche of Huntsville has invited us to join them for a Cars & Coffee Event in cooperation with EuroSunday\, 1300 Meridian St.\, N\, Huntsville.  In addition to meeting other Porsche owners\, you will have an opportunity to indulge in the exquisite review of the design and camaraderie associated with a variety of European automobiles all morning.   While many of our Club members will be in attendance\, this is not an Enthusiast of the Year event.
URL:https://hod.pca.org/event/eurosunday-cars-coffee/
LOCATION:EuroSunday\, 1300 Meridian St N\, Huntsville\, AL\, United States
END:VEVENT
BEGIN:VEVENT
DTSTART;TZID=America/Chicago:20250503T070000
DTEND;TZID=America/Chicago:20250503T090000
DTSTAMP:20260422T171746
CREATED:20241031T130539Z
LAST-MODIFIED:20241207T192650Z
UID:837-1746255600-1746262800@hod.pca.org
SUMMARY:HOD Pit Stop Social and Breakfast - Big Bad Breakfast
DESCRIPTION:7:00 AM meet in parking lot; 7:30 AM go inside for breakfast. Don’t forget to bring your food and/or paper products for the North Alabama Food Bank.
URL:https://hod.pca.org/event/hod-pit-stop-social-and-breakfast-ihop/
LOCATION:Big Bad Breakfast\, 8071 Hwy 72W\, Madison\, AL
END:VEVENT
BEGIN:VEVENT
DTSTART;TZID=America/Chicago:20250503T090000
DTEND;TZID=America/Chicago:20250503T130000
DTSTAMP:20260422T171746
CREATED:20250205T134949Z
LAST-MODIFIED:20250205T135032Z
UID:964-1746262800-1746277200@hod.pca.org
SUMMARY:Asbury Church Car & Bike Show - Asbury Church
DESCRIPTION:After the Pit Stop breakfast\, promptly move to Asbury Church for the Car Show.  All Porsches will be parked together.  Free admission and free hot dogs for all participants.  Please remain in place until the judging is complete at 1:00 PM.                          
URL:https://hod.pca.org/event/asbury-church-car-bike-show-asbury-church/
LOCATION:Asbury Chuch\, 980 Hughes Rd\, Madison\, AL\, 35758\, United States
END:VEVENT
BEGIN:VEVENT
DTSTART;TZID=America/Chicago:20250517T080000
DTEND;TZID=America/Chicago:20250517T120000
DTSTAMP:20260422T171746
CREATED:20241206T174721Z
LAST-MODIFIED:20241206T174721Z
UID:905-1747468800-1747483200@hod.pca.org
SUMMARY:HOD Driving Tour to Legends Steakhouse - Schroetter
DESCRIPTION:8:00 AM – Assemble at the Sunoco Service Station just east of US72 E and Moores Mill intersection for Drivers Safety Meeting and route guidance. Depart promptly at 8:30 AM for a backroads tour to Legends Steakhouse\, 1609 Main St\, Shelbyville\, TN.
URL:https://hod.pca.org/event/hod-driving-tour-to-legends-steakhouse-schroetter/
LOCATION:Sunoco Service Station\, 1604 US72 E\, Huntsville\, AL\, 35811\, United States
END:VEVENT
BEGIN:VEVENT
DTSTART;TZID=America/Chicago:20250525T073000
DTEND;TZID=America/Chicago:20250525T103000
DTSTAMP:20260422T171746
CREATED:20250205T135431Z
LAST-MODIFIED:20250205T135451Z
UID:966-1748158200-1748169000@hod.pca.org
SUMMARY:EuroSunday - Cars & Coffee
DESCRIPTION:Porsche of Huntsville has invited us to join them for a Cars & Coffee Event in cooperation with EuroSunday\, 1300 Meridian St.\, N\, Huntsville.  In addition to meeting other Porsche owners\, you will have an opportunity to indulge in a review of the exquisite design and camaraderie associated with a variety of European automobiles all morning.   While many of our Club members will be in attendance\, this is not an Enthusiast of the Year event. 
URL:https://hod.pca.org/event/eurosunday-cars-coffee-2/
LOCATION:EuroSunday\, 1300 Meridian St N\, Huntsville\, AL\, United States
END:VEVENT
BEGIN:VEVENT
DTSTART;TZID=America/New_York:20250531T080000
DTEND;TZID=America/New_York:20250531T093000
DTSTAMP:20260422T171746
CREATED:20250130T151828Z
LAST-MODIFIED:20250130T151828Z
UID:955-1748678400-1748683800@hod.pca.org
SUMMARY:HOD Porsches & Coffee - PJ's New Orleans Coffee
DESCRIPTION:Bring your Porsche(s). Get a coffee and sweet. Have a nice chat and get a great start to your weekend.
URL:https://hod.pca.org/event/hod-porsches-coffee-pjs-new-orleans-coffee/
LOCATION:PJ’s Coffee Madison\, 243 Browns Ferry Rd\, Madison\, AL\, 35858\, United States
END:VEVENT
BEGIN:VEVENT
DTSTART;TZID=America/Chicago:20250531T080000
DTEND;TZID=America/Chicago:20250531T120000
DTSTAMP:20260422T171746
CREATED:20250515T221656Z
LAST-MODIFIED:20250515T221656Z
UID:1047-1748678400-1748692800@hod.pca.org
SUMMARY:EuroBrit Auto and Bike Expo
DESCRIPTION:The display field opens at 8:00AM.  On-site Registration $30\, pre-register $25 with $15 for each additional car (pre-register at nabms.org).  T-shirts and prize raffles with registration.  Food and drink vendors on site.  In case of inclement weather all pre-registration funds will be donated to the Calhoun Community College Automotive Program after the event costs are met.This is not an Enthusiast of the Year event.  
URL:https://hod.pca.org/event/eurobrit-auto-and-bike-expo/
LOCATION:Dublin Park\, 8324 Old Madison Pike\, Madison\, AL\, 35758\, United States
END:VEVENT
BEGIN:VEVENT
DTSTART;TZID=America/New_York:20250607T070000
DTEND;TZID=America/New_York:20250607T090000
DTSTAMP:20260422T171746
CREATED:20250130T152249Z
LAST-MODIFIED:20250130T152249Z
UID:957-1749279600-1749286800@hod.pca.org
SUMMARY:HOD Pit Stop Social and Breakfast - Just Love Coffee Cafe
DESCRIPTION:7:00 AM meet in parking lot; 7:30 AM go inside for breakfast. Don’t forget to bring your food and/or paper products for the North Alabama Food Bank.
URL:https://hod.pca.org/event/hod-pit-stop-social-and-breakfast-just-love-coffee-cafe/
LOCATION:Just Love Coffee Cafe\, 181 Hughes Rd\, Madison\, TN\, United States
END:VEVENT
BEGIN:VEVENT
DTSTART;TZID=America/Chicago:20250612T180000
DTEND;TZID=America/Chicago:20250612T200000
DTSTAMP:20260422T171746
CREATED:20241206T173736Z
LAST-MODIFIED:20250522T120007Z
UID:899-1749751200-1749758400@hod.pca.org
SUMMARY:HOD Monthly Members Dinner Meeting - The Green in Providence
DESCRIPTION:This is our annual event where we park our cars on the Green in Providence. You can access the Green from Providence Main St. If you come into Providence from Hwy 72E\, you can find the entrance to the Green on the corner just across the street from Taco Mama. The other entrance to the Green is across the street from Mellow Mushroom on the corner. Bring lawn chairs and picnic items\, align your Porsches across the front of the mall. Multiple restaurants offering take-out and drinks within a block: Taco Mama\, Casual Pint\, Furniture Factory Bar & Grill\, The Grille on Main\, Moe’s BBQ\, Phuket Thai\, NitroTales\, Mellow Mushroom Pizza\, Edgar’s Bakery\, Charrito’s Mexican\, Whit’s Frozen Custard\, Starbucks. Or bring your own!
URL:https://hod.pca.org/event/hod-monthly-members-dinner-meeting-the-green-in-providence/
LOCATION:The Village of Providence\, 445 Providence Main St\, Huntsville\, AL\, 35806\, United States
END:VEVENT
BEGIN:VEVENT
DTSTART;TZID=America/Chicago:20250621T080000
DTEND;TZID=America/Chicago:20250621T120000
DTSTAMP:20260422T171746
CREATED:20250205T135925Z
LAST-MODIFIED:20250424T135239Z
UID:968-1750492800-1750507200@hod.pca.org
SUMMARY:HOD Driving Tour - Loretta Lynn's Kitchen TN - LeClaire
DESCRIPTION:8:00AM assemble at the Madison Planet Fitness\, 8050 Hwy 72 (Hwy 72 & Wall Triana) and depart promptly at 8:30AM as Rich LeClaire hosts a Driving Tour to Loretta Lynn’s Kitchen\, 15366 TN-13\, Hurricane Mills for lunch.  This is a lengthy tour with two rest stops to the famous kitchen west of Nashville.  Return individually after lunch to Huntsville\, about 280 miles roundtrip\, depending on your route back.
URL:https://hod.pca.org/event/hod-driving-tour-milky-way-farm-bayuga/
LOCATION:Loretta Lynn’s Kitchen\, 15366 TN 13\, Hurricane Mills\, TN\, United States
END:VEVENT
BEGIN:VEVENT
DTSTART;TZID=America/Chicago:20250628T080000
DTEND;TZID=America/Chicago:20250628T093000
DTSTAMP:20260422T171746
CREATED:20250306T173308Z
LAST-MODIFIED:20250306T173308Z
UID:1013-1751097600-1751103000@hod.pca.org
SUMMARY:HOD Porsches & Coffee - Honest Coffee Roasters
DESCRIPTION:Bring your Porsche(s). Get a coffee and sweet. Have a nice chat and get a great start to your weekend.
URL:https://hod.pca.org/event/hod-porsches-coffee-honest-coffee-roasters/
LOCATION:Honest Coffee Roasters\, 92 Shorter Street\, Madison\, AL
END:VEVENT
BEGIN:VEVENT
DTSTART;TZID=America/New_York:20250628T093000
DTEND;TZID=America/New_York:20250628T113000
DTSTAMP:20260422T171746
CREATED:20241206T175027Z
LAST-MODIFIED:20241206T175027Z
UID:907-1751103000-1751110200@hod.pca.org
SUMMARY:HOD Board of Directors Meeting
DESCRIPTION:Meet in Century Porsche Conference Room. Any HOD member is welcome to attend.
URL:https://hod.pca.org/event/hod-board-of-directors-meeting-4/
LOCATION:Century Porsche\, 3810 University Dr NW\, Huntsville\, AL\, 35816\, United States
END:VEVENT
BEGIN:VEVENT
DTSTART;TZID=America/Chicago:20250629T073000
DTEND;TZID=America/Chicago:20250629T103000
DTSTAMP:20260422T171746
CREATED:20250205T140336Z
LAST-MODIFIED:20250205T140336Z
UID:971-1751182200-1751193000@hod.pca.org
SUMMARY:EuroSunday Cars & Coffee
DESCRIPTION:Porsche of Huntsville has invited us to join them for a Cars & Coffee Event in cooperation with EuroSunday\, 1300 Meridian St.\, N\, Huntsville.  In addition to meeting other Porsche owners\, you will have an opportunity to indulge in the review of the exquisite design and camaraderie associated with a variety of European automobiles all morning.   While many of our Club members will be in attendance\, this is not an Enthusiast of the Year event.
URL:https://hod.pca.org/event/eurosunday-cars-coffee-3/
LOCATION:EuroSunday\, 1300 Meridian St N\, Huntsville\, AL\, United States
END:VEVENT
BEGIN:VEVENT
DTSTART;TZID=America/Chicago:20250705T070000
DTEND;TZID=America/Chicago:20250705T090000
DTSTAMP:20260422T171746
CREATED:20250205T140554Z
LAST-MODIFIED:20250205T140554Z
UID:973-1751698800-1751706000@hod.pca.org
SUMMARY:HOD Pit Stop Breakfast & Social - Eggs Up Grill
DESCRIPTION:7:00 AM meet in parking lot; 7:30 AM go inside for breakfast. Don’t forget to bring your food and/or paper products for the North Alabama Food Bank.
URL:https://hod.pca.org/event/hod-pit-stop-breakfast-social-eggs-up-grill/
LOCATION:Eggs Up Grill\, 300 Hughes Rd\, Madison\, AL
END:VEVENT
BEGIN:VEVENT
DTSTART;VALUE=DATE:20250706
DTEND;VALUE=DATE:20250713
DTSTAMP:20260422T171746
CREATED:20241206T175455Z
LAST-MODIFIED:20241206T175455Z
UID:909-1751760000-1752364799@hod.pca.org
SUMMARY:2025 Porsche Parade - Oklahoma City\, OK
DESCRIPTION:Venue is Omni Oklahoma City Hotel\, 100 W Oklahoma City Blvd.
URL:https://hod.pca.org/event/2025-porsche-parade-oklahoma-city-ok/
LOCATION:AL
END:VEVENT
BEGIN:VEVENT
DTSTART;TZID=America/Chicago:20250710T180000
DTEND;TZID=America/Chicago:20250710T200000
DTSTAMP:20260422T171746
CREATED:20250123T155202Z
LAST-MODIFIED:20250123T155202Z
UID:947-1752170400-1752177600@hod.pca.org
SUMMARY:HOD Members Dinner Meeting - Salt Smokehouse
DESCRIPTION:6:00PM\, assemble in the parking lot at Salt Smokehouse; move inside at 6:30PM for dinner. Please call or text our Club Social Chair Melanie Nord (256) 683-0863 for dinner reservations.
URL:https://hod.pca.org/event/hod-members-dinner-meeting-salt-smokehouse/
LOCATION:Salt Smokehouse\, 1300 Meridian St\, # 104\, Huntsville\, AL\, 35801\, United States
END:VEVENT
BEGIN:VEVENT
DTSTART;TZID=America/Chicago:20250719T080000
DTEND;TZID=America/Chicago:20250719T120000
DTSTAMP:20260422T171746
CREATED:20250327T145909Z
LAST-MODIFIED:20250611T131053Z
UID:1025-1752912000-1752926400@hod.pca.org
SUMMARY:HOD Driving Tour - Coker Museum\, Chattanooga - Bayuga
DESCRIPTION:8:00AM assemble at the SUNOCO Service Station\, 1604 US72 E\, just east of the US72E and Moores Mill intersection\, for a Driving Tour led by Greg Bayuga to The Coker Museum\, 1309 Chestnut St.\, downtown Chattanooga.  Lunch follows the Museum tour at the Urban Stack\, 12 West 13th St. downtown Chattanooga\, just a 5-minute walk from the museum.  There is an $11 entry fee for the museum with a minimum attendance of twenty people.
URL:https://hod.pca.org/event/hod-driving-tour-milky-way-farm-bayuga-2/
LOCATION:Sunoco Service Station\, 1604 US72 E\, Huntsville\, AL\, 35811\, United States
END:VEVENT
BEGIN:VEVENT
DTSTART;TZID=America/Chicago:20250726T080000
DTEND;TZID=America/Chicago:20250726T093000
DTSTAMP:20260422T171746
CREATED:20250123T155522Z
LAST-MODIFIED:20250123T155522Z
UID:950-1753516800-1753522200@hod.pca.org
SUMMARY:HOD Porsches & Coffee - Variety Bake Shop
DESCRIPTION:Bring your Porsche(s). Get a coffee and sweet. Have a nice chat and get a great start to your weekend.
URL:https://hod.pca.org/event/hod-porsches-coffee-variety-bake-shop/
LOCATION:Variety Bake Shop\, 108 E Peachtree St\, Scottsboro\, AL 35768\, Scottsboro\, AL\, 35768\, United States
END:VEVENT
BEGIN:VEVENT
DTSTART;TZID=America/Chicago:20250727T073000
DTEND;TZID=America/Chicago:20250727T103000
DTSTAMP:20260422T171746
CREATED:20250205T140954Z
LAST-MODIFIED:20250205T140954Z
UID:977-1753601400-1753612200@hod.pca.org
SUMMARY:EuroSunday Cars & Coffee
DESCRIPTION:Porsche of Huntsville has invited us to join them for a Cars & Coffee Event in cooperation with EuroSunday\, 1300 Meridian St.\, N\, Huntsville.  In addition to meeting other Porsche owners\, you will have an opportunity to review the exquisite design and camaraderie associated with a variety of European automobiles all morning.   While many of our Club members will be in attendance\, this is not an Enthusiast of the Year event.
URL:https://hod.pca.org/event/eurosunday-cars-coffee-4/
LOCATION:EuroSunday\, 1300 Meridian St N\, Huntsville\, AL\, United States
END:VEVENT
BEGIN:VEVENT
DTSTART;TZID=America/Chicago:20250802T070000
DTEND;TZID=America/Chicago:20250802T090000
DTSTAMP:20260422T171746
CREATED:20250205T141421Z
LAST-MODIFIED:20250205T141421Z
UID:979-1754118000-1754125200@hod.pca.org
SUMMARY:HOD Pit Stop Breakfast & Social - Edgar's Bakery Madison
DESCRIPTION:7:00 AM meet in parking lot; 7:30 AM go inside for breakfast. Don’t forget to bring your food and/or paper products for the North Alabama Food Bank.
URL:https://hod.pca.org/event/hod-pit-stop-breakfast-social-edgars-bakery-madison/
LOCATION:Edgar’s Madison\, 125 Stadium Way\, Madison\, AL
END:VEVENT
BEGIN:VEVENT
DTSTART;TZID=America/New_York:20250807T170000
DTEND;TZID=America/New_York:20250807T180000
DTSTAMP:20260422T171746
CREATED:20241206T180209Z
LAST-MODIFIED:20241206T180209Z
UID:913-1754586000-1754589600@hod.pca.org
SUMMARY:HOD New Members Reception at Porsche of Huntsville
DESCRIPTION:Reception for new members from 5:00 PM – 6:00 PM at Century Porsche\, then convoy to Park Place Mall and assemble at 6:00 PM on the second-floor parking garage. At 6:30 PM\, move into Carrabba’s Italian Grill for dinner. Dinner for new members and their family member is complementary.
URL:https://hod.pca.org/event/hod-new-members-reception-at-porsche-of-huntsville/
LOCATION:Century Porsche\, 3810 University Dr NW\, Huntsville\, AL\, 35816\, United States
END:VEVENT
BEGIN:VEVENT
DTSTART;TZID=America/Chicago:20250807T183000
DTEND;TZID=America/Chicago:20250807T203000
DTSTAMP:20260422T171746
CREATED:20241206T180624Z
LAST-MODIFIED:20241206T180624Z
UID:915-1754591400-1754598600@hod.pca.org
SUMMARY:HOD New Members Complementary Dinner - Carrabba's Italian Grill
DESCRIPTION:Dinner is complements of the HOD club for new members and their family member. All members may attend. Reservations are required for all; contact HOD Social Chair Melanie Nord\, 256.683.0863 to confirm. Note time to sit down is 6:30 PM.
URL:https://hod.pca.org/event/hod-new-members-complementary-dinner-carrabbas-italian-grill/
LOCATION:Carrabba’s Italian Gill\, 2801 S Memorial Pkwy\, Huntsville\, Alabama\, 35801\, United States
END:VEVENT
BEGIN:VEVENT
DTSTART;TZID=America/Chicago:20250814T180000
DTEND;TZID=America/Chicago:20250814T200000
DTSTAMP:20260422T171746
CREATED:20241206T181022Z
LAST-MODIFIED:20241206T181022Z
UID:918-1755194400-1755201600@hod.pca.org
SUMMARY:HOD Monthly Members Dinner Meeting - Carrabba's Italian Grill
DESCRIPTION:6:00 PM meet on second-floor parking lot at Park Place Mall. Move inside for dinner at 6:30 PM. Reservations required; contact HOD Social Chair Melanie Nord\, 256-683-0863 to confirm.
URL:https://hod.pca.org/event/hod-monthly-members-dinner-meeting-carrabbas-italian-grill/
LOCATION:Carrabba’s Italian Gill\, 2801 S Memorial Pkwy\, Huntsville\, Alabama\, 35801\, United States
END:VEVENT
BEGIN:VEVENT
DTSTART;TZID=America/Chicago:20250816T090000
DTEND;TZID=America/Chicago:20250816T110000
DTSTAMP:20260422T171746
CREATED:20250703T123641Z
LAST-MODIFIED:20250703T123641Z
UID:1063-1755334800-1755342000@hod.pca.org
SUMMARY:HOD Board Meeting
DESCRIPTION:Continue planning the HOD 65th Anniversary Celebration scheduled for Saturday\, April 25th\, 2026.
URL:https://hod.pca.org/event/hod-board-meeting-3/
LOCATION:Century Porsche\, 3810 University Dr NW\, Huntsville\, AL\, 35816\, United States
END:VEVENT
BEGIN:VEVENT
DTSTART;TZID=America/Chicago:20250823T080000
DTEND;TZID=America/Chicago:20250823T120000
DTSTAMP:20260422T171746
CREATED:20250703T124516Z
LAST-MODIFIED:20250703T124516Z
UID:1065-1755936000-1755950400@hod.pca.org
SUMMARY:HOD Driving Tour - Winchester \, TN - Ward
DESCRIPTION:8:00 AM assemble in the way south Walmart (11610 Memorial Parkway\, SW\, Huntsville) parking lot for Drivers’ Safety Meeting and route guidance. Depart promptly at 8:30 AM for a Steve Ward Driving Tour to the Twin Creeks Marina Restaurant\, 91 Slip-A-Way\, Winchester\, TN.  The tour round-trip distance is 133 miles.
URL:https://hod.pca.org/event/hod-driving-tour-winchester-tn-ward/
LOCATION:Walmart Southeast Plaza\, 11610 Memorial Pkwy SW\, Huntsville\, AL\, 35803\, United States
END:VEVENT
BEGIN:VEVENT
DTSTART;TZID=America/Chicago:20250830T080000
DTEND;TZID=America/Chicago:20250830T093000
DTSTAMP:20260422T171746
CREATED:20250424T135804Z
LAST-MODIFIED:20250424T135804Z
UID:1040-1756540800-1756546200@hod.pca.org
SUMMARY:HOD Porsches & Coffee - Love of Coffee Cafe
DESCRIPTION:Bring your Porsche(s). Get a coffee and sweet. Have a nice chat and get a great start to your weekend.
URL:https://hod.pca.org/event/hod-porsches-coffee-love-of-coffee-cafe/
LOCATION:Love of Coffee Cafe\, 181 Hughes Rd\, Madison\, AL\, United States
END:VEVENT
END:VCALENDAR