BEGIN:VCALENDAR
VERSION:2.0
PRODID:-// - ECPv6.15.20//NONSGML v1.0//EN
CALSCALE:GREGORIAN
METHOD:PUBLISH
X-ORIGINAL-URL:https://hod.pca.org
X-WR-CALDESC:Events for 
REFRESH-INTERVAL;VALUE=DURATION:PT1H
X-Robots-Tag:noindex
X-PUBLISHED-TTL:PT1H
BEGIN:VTIMEZONE
TZID:America/Chicago
BEGIN:DAYLIGHT
TZOFFSETFROM:-0600
TZOFFSETTO:-0500
TZNAME:CDT
DTSTART:20250309T080000
END:DAYLIGHT
BEGIN:STANDARD
TZOFFSETFROM:-0500
TZOFFSETTO:-0600
TZNAME:CST
DTSTART:20251102T070000
END:STANDARD
BEGIN:DAYLIGHT
TZOFFSETFROM:-0600
TZOFFSETTO:-0500
TZNAME:CDT
DTSTART:20260308T080000
END:DAYLIGHT
BEGIN:STANDARD
TZOFFSETFROM:-0500
TZOFFSETTO:-0600
TZNAME:CST
DTSTART:20261101T070000
END:STANDARD
BEGIN:DAYLIGHT
TZOFFSETFROM:-0600
TZOFFSETTO:-0500
TZNAME:CDT
DTSTART:20270314T080000
END:DAYLIGHT
BEGIN:STANDARD
TZOFFSETFROM:-0500
TZOFFSETTO:-0600
TZNAME:CST
DTSTART:20271107T070000
END:STANDARD
END:VTIMEZONE
BEGIN:VEVENT
DTSTART;TZID=America/Chicago:20260502T070000
DTEND;TZID=America/Chicago:20260502T090000
DTSTAMP:20260421T200932
CREATED:20260116T165433Z
LAST-MODIFIED:20260116T165433Z
UID:1203-1777705200-1777712400@hod.pca.org
SUMMARY:HOD Pit Stop Social and Breakfast - Another Broken Egg Cafe (Madison)
DESCRIPTION:Next door to Academy Sports\, across the street from Luigi’s Italian Grill \n7:00 AM – Social in parking lot.\n7:30 AM – Breakfast inside as desired. \n**Don’t forget to bring a food item for your contribution to the North Alabama Food Bank
URL:https://hod.pca.org/event/hod-pit-stop-social-and-breakfast-another-broken-egg-cafe-madison/
LOCATION:Another Broken Egg (Madison)\, 7504 US72 W\, Madison\, AL\, 35758\, United States
CATEGORIES:Pit Stop Breakfast,Social
END:VEVENT
BEGIN:VEVENT
DTSTART;TZID=America/Chicago:20260514T180000
DTEND;TZID=America/Chicago:20260514T200000
DTSTAMP:20260421T200932
CREATED:20260116T170149Z
LAST-MODIFIED:20260116T170149Z
UID:1213-1778781600-1778788800@hod.pca.org
SUMMARY:HOD Monthly Members Dinner Meeting - The Village of Providence
DESCRIPTION:Join the Porsche Display on the Providence Commons as our Monthly Membership Dinner Meeting.  Select your dinner from the various Providence restaurants and return to the Commons for a picnic\, bring lawn chairs\, and mini tables as needed.
URL:https://hod.pca.org/event/hod-monthly-members-dinner-meeting-the-village-of-providence/
LOCATION:The Village of Providence\, 445 Providence Main St\, Huntsville\, AL\, 35806\, United States
CATEGORIES:Member Dinner,Social
END:VEVENT
BEGIN:VEVENT
DTSTART;TZID=America/Chicago:20260516T080000
DTEND;TZID=America/Chicago:20260516T120000
DTSTAMP:20260421T200932
CREATED:20260116T170556Z
LAST-MODIFIED:20260415T200734Z
UID:1215-1778918400-1778932800@hod.pca.org
SUMMARY:HOD Driving Tour - Smith Lake Trident Grill\, Crane Hill\, AL - Carlile
DESCRIPTION:8:00AM assembly at the way south Walmart\, 11610 Memorial Pkwy SW and depart promptly at 8:30AM for the Carlile’s 5th Driving Tour to Smith Lake Trident Grill (2019\, 2020\, 2023\, & 2024)\, 21680 CR222\, Crane Hill\, AL and return individually to Huntsville.
URL:https://hod.pca.org/event/hod-driving-tour-smith-lake-trident-grill-crane-hill-al-carlile/
LOCATION:Walmart Southeast Plaza\, 11610 Memorial Pkwy SW\, Huntsville\, AL\, 35803\, United States
CATEGORIES:Tour
END:VEVENT
BEGIN:VEVENT
DTSTART;TZID=America/Chicago:20260530T080000
DTEND;TZID=America/Chicago:20260530T093000
DTSTAMP:20260421T200932
CREATED:20260116T171028Z
LAST-MODIFIED:20260116T171028Z
UID:1217-1780128000-1780133400@hod.pca.org
SUMMARY:HOD Porsches & Coffee - Honest Coffee Roasters
DESCRIPTION:Porsches & Coffee hosted by Cambron at Honest Coffee Roasters\, 92 Shorter St.\, Madison\, just off Sullivan St.  There is plenty of parking in the lot just south of the shop. \nBring your Porsche(s). Get a coffee and sweet. Have a nice chat and get a great start to your weekend.
URL:https://hod.pca.org/event/hod-porsches-coffee-honest-coffee-roasters-2/
LOCATION:Honest Coffee Roasters\, 92 Shorter Street\, Madison\, AL
CATEGORIES:Porsches & Coffee,Social
END:VEVENT
BEGIN:VEVENT
DTSTART;TZID=America/Chicago:20260530T090000
DTEND;TZID=America/Chicago:20260530T170000
DTSTAMP:20260421T200932
CREATED:20260224T164601Z
LAST-MODIFIED:20260224T164601Z
UID:1321-1780131600-1780160400@hod.pca.org
SUMMARY:EuroBrit 26 Car Show
DESCRIPTION:**this is not an official PCA HOD event** \nThe North Alabama EuroBrit Motoring Society is hosting their annual EuroBrit car show on May 30\, 2026 at Dublin Park in Madison.  Space is limited and prior registration is required to include your car in the show.  There will be door prizes\, awards\, food trucks and fun for the whole family. Full details available on their website. https://www.nabms.org EuroBrit26 Flyer
URL:https://hod.pca.org/event/eurobrit-26-car-show/
LOCATION:Dublin Park\, 8324 Old Madison Pike\, Madison\, AL\, 35758\, United States
CATEGORIES:Car Show
END:VEVENT
BEGIN:VEVENT
DTSTART;TZID=America/Chicago:20260606T070000
DTEND;TZID=America/Chicago:20260606T083000
DTSTAMP:20260421T200932
CREATED:20260116T171538Z
LAST-MODIFIED:20260116T171538Z
UID:1219-1780729200-1780734600@hod.pca.org
SUMMARY:HOD Pit Stop Social and Breakfast - Edgar's Bakery (Airport Rd)
DESCRIPTION:7:00 AM – Social in parking lot.\n7:30 AM – Breakfast inside as desired. \n**Remember to bring your food items or paper products for the Food Bank of North Alabama.
URL:https://hod.pca.org/event/hod-pit-stop-social-and-breakfast-edgars-bakery-airport-rd/
LOCATION:Edgar’s Bakery (Airport Rd)\, 2004 Airport Rd SW\, Huntsville\, AL\, 35801\, United States
CATEGORIES:Pit Stop Breakfast
END:VEVENT
BEGIN:VEVENT
DTSTART;TZID=America/Chicago:20260611T180000
DTEND;TZID=America/Chicago:20260611T200000
DTSTAMP:20260421T200932
CREATED:20260116T172034Z
LAST-MODIFIED:20260116T172034Z
UID:1222-1781200800-1781208000@hod.pca.org
SUMMARY:HOD Monthly Members Dinner Meeting - Luigi's Italian Grill
DESCRIPTION:6:00PM\, assemble in the parking lot; move inside at 6:30PM for dinner. Please call or text our Club Social Chair Melanie Nord (256) 683-0863 for dinner reservations.
URL:https://hod.pca.org/event/hod-monthly-members-dinner-meeting-luigis-italian-grill/
LOCATION:Luigi’s Italian Grill\, 7559 Hwy 72 W Suite 112\, Madison\, AL\, 35758\, United States
CATEGORIES:Member Dinner
END:VEVENT
BEGIN:VEVENT
DTSTART;TZID=America/Chicago:20260627T080000
DTEND;TZID=America/Chicago:20260627T093000
DTSTAMP:20260421T200932
CREATED:20260116T172423Z
LAST-MODIFIED:20260116T172423Z
UID:1224-1782547200-1782552600@hod.pca.org
SUMMARY:HOD Porsches & Coffee - L’ Etoile Patisserie French Bakery
DESCRIPTION:Parking is available in several lots adjacent to the Bakery. \nBring your Porsche(s). Get a coffee and sweet. Have a nice chat and get a great start to your weekend.
URL:https://hod.pca.org/event/hod-porsches-coffee-l-etoile-patisserie-french-bakery/
LOCATION:L’Etoile Patisserie\, 1214 Meridian St N\, Huntsville\, AL\, 35801\, United States
CATEGORIES:Porsches & Coffee
END:VEVENT
END:VCALENDAR