BEGIN:VCALENDAR
VERSION:2.0
PRODID:-// - ECPv6.15.20//NONSGML v1.0//EN
CALSCALE:GREGORIAN
METHOD:PUBLISH
X-ORIGINAL-URL:https://hod.pca.org
X-WR-CALDESC:Events for 
REFRESH-INTERVAL;VALUE=DURATION:PT1H
X-Robots-Tag:noindex
X-PUBLISHED-TTL:PT1H
BEGIN:VTIMEZONE
TZID:America/New_York
BEGIN:DAYLIGHT
TZOFFSETFROM:-0500
TZOFFSETTO:-0400
TZNAME:EDT
DTSTART:20230312T070000
END:DAYLIGHT
BEGIN:STANDARD
TZOFFSETFROM:-0400
TZOFFSETTO:-0500
TZNAME:EST
DTSTART:20231105T060000
END:STANDARD
BEGIN:DAYLIGHT
TZOFFSETFROM:-0500
TZOFFSETTO:-0400
TZNAME:EDT
DTSTART:20240310T070000
END:DAYLIGHT
BEGIN:STANDARD
TZOFFSETFROM:-0400
TZOFFSETTO:-0500
TZNAME:EST
DTSTART:20241103T060000
END:STANDARD
BEGIN:DAYLIGHT
TZOFFSETFROM:-0500
TZOFFSETTO:-0400
TZNAME:EDT
DTSTART:20250309T070000
END:DAYLIGHT
BEGIN:STANDARD
TZOFFSETFROM:-0400
TZOFFSETTO:-0500
TZNAME:EST
DTSTART:20251102T060000
END:STANDARD
END:VTIMEZONE
BEGIN:VTIMEZONE
TZID:America/Chicago
BEGIN:DAYLIGHT
TZOFFSETFROM:-0600
TZOFFSETTO:-0500
TZNAME:CDT
DTSTART:20230312T080000
END:DAYLIGHT
BEGIN:STANDARD
TZOFFSETFROM:-0500
TZOFFSETTO:-0600
TZNAME:CST
DTSTART:20231105T070000
END:STANDARD
BEGIN:DAYLIGHT
TZOFFSETFROM:-0600
TZOFFSETTO:-0500
TZNAME:CDT
DTSTART:20240310T080000
END:DAYLIGHT
BEGIN:STANDARD
TZOFFSETFROM:-0500
TZOFFSETTO:-0600
TZNAME:CST
DTSTART:20241103T070000
END:STANDARD
BEGIN:DAYLIGHT
TZOFFSETFROM:-0600
TZOFFSETTO:-0500
TZNAME:CDT
DTSTART:20250309T080000
END:DAYLIGHT
BEGIN:STANDARD
TZOFFSETFROM:-0500
TZOFFSETTO:-0600
TZNAME:CST
DTSTART:20251102T070000
END:STANDARD
END:VTIMEZONE
BEGIN:VTIMEZONE
TZID:UTC
BEGIN:STANDARD
TZOFFSETFROM:+0000
TZOFFSETTO:+0000
TZNAME:UTC
DTSTART:20230101T000000
END:STANDARD
END:VTIMEZONE
BEGIN:VEVENT
DTSTART;TZID=America/New_York:20240525T080000
DTEND;TZID=America/New_York:20240525T093000
DTSTAMP:20260422T173758
CREATED:20240305T223310Z
LAST-MODIFIED:20240305T223310Z
UID:393-1716624000-1716629400@hod.pca.org
SUMMARY:Porsches & Coffee - Hamley's Bake Shoppe
DESCRIPTION:Bring your Porsche(s). Get a coffee and sweet. Have a nice chat and get a great start to your weekend. Parking at the shoppe or at Domino’s next door.
URL:https://hod.pca.org/event/porsches-coffee-hamleys-bake-shoppe/
LOCATION:Hamley’s Bake Shoppe\, 12023 US-231 431 N\, Meridianville\, AL\, 35759\, United States
CATEGORIES:Porsches & Coffee
END:VEVENT
BEGIN:VEVENT
DTSTART;TZID=America/New_York:20240518T080000
DTEND;TZID=America/New_York:20240518T120000
DTSTAMP:20260422T173758
CREATED:20240305T223049Z
LAST-MODIFIED:20240305T223049Z
UID:390-1716019200-1716033600@hod.pca.org
SUMMARY:HOD Driving Tour - Smith Lake - Carlile
DESCRIPTION:8:00 AM – Assemble at Walmart parking lot for Drivers Safety Briefing and route guidance. Depart promptly at 8:30 AM for tour and lunch at Smith Lake Trident Grill\, 21680 CR 222\, Crane Hill\, AL.8:00 AM – Assemble at Walmart parking lot for Drivers Safety Briefing and route guidance. Depart promptly at 8:30 AM for tour and lunch at Smith Lake Trident Grill\, 21680 CR 222\, Crane Hill\, AL.
URL:https://hod.pca.org/event/hod-driving-tour-smith-lake-carlile/
LOCATION:Walmart Southeast Plaza\, 11610 Memorial Pkwy SW\, Huntsville\, AL\, 35803\, United States
CATEGORIES:Tour
END:VEVENT
BEGIN:VEVENT
DTSTART;TZID=America/Chicago:20240511T130000
DTEND;TZID=America/Chicago:20240511T150000
DTSTAMP:20260422T173758
CREATED:20240509T162039Z
LAST-MODIFIED:20240509T162039Z
UID:761-1715432400-1715439600@hod.pca.org
SUMMARY:HOD Member Jay McCook's Birthday Party
DESCRIPTION:The Club is invited by the daughters of Club Member Jay McCook to his 89th Birthday Party\, 14645 Woodland Rd.\, Athens.
URL:https://hod.pca.org/event/hod-member-jay-mccooks-birthday-party/
LOCATION:AL
END:VEVENT
BEGIN:VEVENT
DTSTART;TZID=America/Chicago:20240511T080000
DTEND;TZID=America/Chicago:20240511T100000
DTSTAMP:20260422T173758
CREATED:20240417T175629Z
LAST-MODIFIED:20240417T180207Z
UID:671-1715414400-1715421600@hod.pca.org
SUMMARY:Joe Still's Toy Barn Open House
DESCRIPTION:Come visit rain or shine since this event is inside\, and check out Joe’s collection and new Cup Car “up close and personal.”
URL:https://hod.pca.org/event/joe-stills-toy-barn-open-house/
LOCATION:Joe Still’s Toy Barn\, 3220 Long Ave SW\, Huntsville\, AL\, 35805
END:VEVENT
BEGIN:VEVENT
DTSTART;TZID=America/New_York:20240504T070000
DTEND;TZID=America/New_York:20240504T090000
DTSTAMP:20260422T173758
CREATED:20240305T222054Z
LAST-MODIFIED:20240423T152235Z
UID:383-1714806000-1714813200@hod.pca.org
SUMMARY:HOD Pit Stop Social and Breakfast - City Cafe Diner
DESCRIPTION:7:00 AM – Social in parking lot.\n7:30 AM – Breakfast inside as desired. Don’t forget to bring a food item for your contribution to the North Alabama Food Bank.
URL:https://hod.pca.org/event/hod-pit-stop-social-and-breakfast-2/
LOCATION:City Cafe Diner\, 2003 Drake Ave SW\, Huntsville\, AL\, 35801\, United States
CATEGORIES:Pit Stop Breakfast
END:VEVENT
BEGIN:VEVENT
DTSTART;TZID=America/New_York:20240427T090000
DTEND;TZID=America/New_York:20240427T130000
DTSTAMP:20260422T173758
CREATED:20240305T221706Z
LAST-MODIFIED:20240305T221706Z
UID:380-1714208400-1714222800@hod.pca.org
SUMMARY:Asbury Church Car & Bike Show
DESCRIPTION:Register on-site and it’s free\, plus a free hot dog for lunch. Club member Scott Millhouse will ensure they park all the Porsches together. Judging starts at 10:00 AM with awards at noon. You can come to the Porsches & Coffee at 8:00 AM then drive over to the Car Show at 9:00 AM.
URL:https://hod.pca.org/event/asbury-church-car-bike-show/
LOCATION:Asbury Chuch\, 980 Hughes Rd\, Madison\, AL\, 35758\, United States
CATEGORIES:Car Show
END:VEVENT
BEGIN:VEVENT
DTSTART;TZID=America/New_York:20240420T080000
DTEND;TZID=America/New_York:20240420T120000
DTSTAMP:20260422T173758
CREATED:20240305T221508Z
LAST-MODIFIED:20240305T221508Z
UID:378-1713600000-1713614400@hod.pca.org
SUMMARY:HOD Driving Tour - Miss Mary Bobo's - Bayuga
DESCRIPTION:8:00 AM – Assemble on Old Gurley Rd behind SUNOCO service station\, 1604 US72 E for Drivers Safety Meeting and route guidance. Depart promptly at 8:30 AM for lunch at Miss Mary Bobo’s\, 295 Main St\, Lynchburg TN. We have 30 reservations at a cost of about $40/person. Mail check payable to Greg Bayuga\, 102 Ledgefield Cir\, Harvest AL 35749 to confirm your reservation.
URL:https://hod.pca.org/event/hod-driving-tour-miss-mary-bobos-bayuga/
LOCATION:AL
CATEGORIES:Tour
END:VEVENT
BEGIN:VEVENT
DTSTART;TZID=America/New_York:20240411T180000
DTEND;TZID=America/New_York:20240411T200000
DTSTAMP:20260422T173758
CREATED:20240305T221148Z
LAST-MODIFIED:20240305T221148Z
UID:373-1712858400-1712865600@hod.pca.org
SUMMARY:HOD Monthly Members Dinner Meeting
DESCRIPTION:Meet in the parking lot by 6:00 PM and we’ll move indoors for dinner at 6:30 PM. Call or text our Club Social Chair Melanie Nord\, @ (256) 683-0863 for dinner reservations.
URL:https://hod.pca.org/event/hod-monthly-members-dinner-meeting-2/
LOCATION:The Freight House Restaurant\, 200 Railroad St SW\, Hartselle\, AL\, 35640\, United States
CATEGORIES:Member Dinner
END:VEVENT
BEGIN:VEVENT
DTSTART;TZID=America/New_York:20240406T070000
DTEND;TZID=America/New_York:20240406T090000
DTSTAMP:20260422T173758
CREATED:20240305T220735Z
LAST-MODIFIED:20240305T220735Z
UID:370-1712386800-1712394000@hod.pca.org
SUMMARY:HOD Pit Stop Social and Breakfast
DESCRIPTION:7:00 AM – Social in parking lot.\n7:30 AM – Breakfast inside as desired. Don’t forget to bring a food item for your contribution to the North Alabama Food Bank.
URL:https://hod.pca.org/event/hod-pit-stop-social-and-breakfast/
LOCATION:Biscuit Belly\, 2710 Carl T Jones Dr SE E\, Huntsville\, AL\, 35802\, United States
CATEGORIES:Pit Stop Breakfast
END:VEVENT
BEGIN:VEVENT
DTSTART;TZID=America/New_York:20240403T080000
DTEND;TZID=America/New_York:20240403T180000
DTSTAMP:20260422T173758
CREATED:20240305T220429Z
LAST-MODIFIED:20240305T220429Z
UID:368-1712131200-1712167200@hod.pca.org
SUMMARY:Porsche Parade Registration - Banquets\, Events & Tours
DESCRIPTION:Online registration. Registration for Parade competitive events (Concours\, TSD Rally & Gimmick Rally\, Autocross\, Technical & Historic Quiz)\, and5km Walk/Run\, Tours\, and Volunteer positions.
URL:https://hod.pca.org/event/porsche-parade-registration-banquets-events-tours/
LOCATION:AL
CATEGORIES:National Event
END:VEVENT
BEGIN:VEVENT
DTSTART;TZID=America/New_York:20240330T080000
DTEND;TZID=America/New_York:20240330T093000
DTSTAMP:20260422T173758
CREATED:20240225T145502Z
LAST-MODIFIED:20240225T145502Z
UID:217-1711785600-1711791000@hod.pca.org
SUMMARY:Porsches & Coffee
DESCRIPTION:Bring your Porsche(s). Get a coffee and sweet. Have a nice chat and get a great start to your weekend.
URL:https://hod.pca.org/event/porsches-coffee-2/
LOCATION:Big Foot Little Donuts\, 7914 Memorial Pkwy SW\, Huntsville\, AL
CATEGORIES:Porsches & Coffee
END:VEVENT
BEGIN:VEVENT
DTSTART;TZID=UTC:20240316T080000
DTEND;TZID=UTC:20240316T120000
DTSTAMP:20260422T173758
CREATED:20240224T194454Z
LAST-MODIFIED:20240224T194454Z
UID:200-1710576000-1710590400@hod.pca.org
SUMMARY:HOD Tech Session - Martin's Classic Cars
DESCRIPTION:Martin Folgmann is hosting us at Martin’s Classic Cars. This will be a treat!
URL:https://hod.pca.org/event/hod-tech-session-martins-classic-cars/
LOCATION:Martin’s Classic Cars\, 1320 Putman Dr NW\, Huntsville\, AL\, 35816
CATEGORIES:Tech Session
END:VEVENT
BEGIN:VEVENT
DTSTART;TZID=UTC:20240314T180000
DTEND;TZID=UTC:20240314T200000
DTSTAMP:20260422T173758
CREATED:20240224T194130Z
LAST-MODIFIED:20240224T194130Z
UID:196-1710439200-1710446400@hod.pca.org
SUMMARY:HOD Monthly Members Dinner Meeting
DESCRIPTION:Meet in the parking lot by 6:00 PM and we’ll move indoors for dinner at 6:30 PM. Call or text our Club Social Chair Melanie Nord\, @ (256) 683-0863 for dinner reservations.
URL:https://hod.pca.org/event/hod-monthly-members-dinner-meeting/
LOCATION:Old Greenbrier Restaurant\, 27028 Old Highway 20\, Madison\, AL\, 35756\, United States
CATEGORIES:Member Dinner
END:VEVENT
BEGIN:VEVENT
DTSTART;TZID=UTC:20240309T080000
DTEND;TZID=UTC:20240309T120000
DTSTAMP:20260422T173758
CREATED:20240224T193143Z
LAST-MODIFIED:20240224T193559Z
UID:192-1709971200-1709985600@hod.pca.org
SUMMARY:HOD Driving Tour - Fayetteville TN - LeClaire
DESCRIPTION:8:00 AM – Assemble in Madison Planet Fitness parking lot (Wall Triana and US 72 W) for Drivers Safety Meeting and route guidance. Depart promptly at 8:30 AM for driving tour through Limestone County and southern Tennessee to lunch at Cahoots Restaurant\, 114 Market St W\, Fayetteville TN.
URL:https://hod.pca.org/event/hod-driving-tour-fayetteville-tn-leclaire/
LOCATION:Planet Fitness Madison\, 8050 Hwy 72 W\, Madison\, AL\, 35758
CATEGORIES:Tour
END:VEVENT
BEGIN:VEVENT
DTSTART;TZID=UTC:20240302T090000
DTEND;TZID=UTC:20240302T110000
DTSTAMP:20260422T173758
CREATED:20240223T052855Z
LAST-MODIFIED:20240223T052855Z
UID:57-1709370000-1709377200@hod.pca.org
SUMMARY:Annual Driving Tour Leaders Qualification Class
DESCRIPTION:Since 2006\, we’d had a Driving Tour every month except for December which is just too busy with family events. We’d love to train some of our new members to lead these tours and we offer a Driving Tour Leader’s Class annually\, this coming year after the Pit Stop Breakfast on March 2nd at the Madison IHOP and we’ll provide a free Breakfast if you’ll come\, and we’d like to refresh our existing Driving Tour Leaders\, too. Please email Dave Schroetter if you can attend: schroetterdavid@aol.com
URL:https://hod.pca.org/event/annual-driving-tour-leaders-qualification-class/
LOCATION:IHOP\, 8622 Hwy 72 W\, Madison\, AL\, 35758\, United States
CATEGORIES:Tour
END:VEVENT
BEGIN:VEVENT
DTSTART;TZID=UTC:20240302T070000
DTEND;TZID=UTC:20240302T090000
DTSTAMP:20260422T173758
CREATED:20240223T052341Z
LAST-MODIFIED:20240224T193742Z
UID:52-1709362800-1709370000@hod.pca.org
SUMMARY:HOD Pit Stop Social & Breakfast
DESCRIPTION:7:00 AM – Social in parking lot.\n7:30 AM – Breakfast inside as desired. Don’t forget to bring a food item for your contribution to the North Alabama Food Bank.
URL:https://hod.pca.org/event/hod-pit-stop-social-breakfast/
LOCATION:IHOP\, 8622 Hwy 72 W\, Madison\, AL\, 35758\, United States
CATEGORIES:Pit Stop Breakfast
END:VEVENT
BEGIN:VEVENT
DTSTART;TZID=UTC:20240224T080000
DTEND;TZID=UTC:20240224T093000
DTSTAMP:20260422T173758
CREATED:20240224T194746Z
LAST-MODIFIED:20240224T194746Z
UID:203-1708761600-1708767000@hod.pca.org
SUMMARY:Porsches & Coffee
DESCRIPTION:Bring your Porsche(s). Get a coffee and sweet. Have a nice chat and get a great start to your weekend.
URL:https://hod.pca.org/event/porsches-coffee/
LOCATION:Big Foot Little Donuts\, 7914 Memorial Pkwy SW\, Huntsville\, AL
CATEGORIES:Porsches & Coffee
END:VEVENT
END:VCALENDAR