BEGIN:VCALENDAR
VERSION:2.0
PRODID:-// - ECPv6.15.20//NONSGML v1.0//EN
CALSCALE:GREGORIAN
METHOD:PUBLISH
X-ORIGINAL-URL:https://hod.pca.org
X-WR-CALDESC:Events for 
REFRESH-INTERVAL;VALUE=DURATION:PT1H
X-Robots-Tag:noindex
X-PUBLISHED-TTL:PT1H
BEGIN:VTIMEZONE
TZID:America/Chicago
BEGIN:DAYLIGHT
TZOFFSETFROM:-0600
TZOFFSETTO:-0500
TZNAME:CDT
DTSTART:20230312T080000
END:DAYLIGHT
BEGIN:STANDARD
TZOFFSETFROM:-0500
TZOFFSETTO:-0600
TZNAME:CST
DTSTART:20231105T070000
END:STANDARD
BEGIN:DAYLIGHT
TZOFFSETFROM:-0600
TZOFFSETTO:-0500
TZNAME:CDT
DTSTART:20240310T080000
END:DAYLIGHT
BEGIN:STANDARD
TZOFFSETFROM:-0500
TZOFFSETTO:-0600
TZNAME:CST
DTSTART:20241103T070000
END:STANDARD
BEGIN:DAYLIGHT
TZOFFSETFROM:-0600
TZOFFSETTO:-0500
TZNAME:CDT
DTSTART:20250309T080000
END:DAYLIGHT
BEGIN:STANDARD
TZOFFSETFROM:-0500
TZOFFSETTO:-0600
TZNAME:CST
DTSTART:20251102T070000
END:STANDARD
END:VTIMEZONE
BEGIN:VEVENT
DTSTART;TZID=America/Chicago:20240706T070000
DTEND;TZID=America/Chicago:20240706T090000
DTSTAMP:20260423T102057
CREATED:20240423T151822Z
LAST-MODIFIED:20240528T123449Z
UID:722-1720249200-1720256400@hod.pca.org
SUMMARY:HOD Pit Stop Social and Breakfast - Eggs Up Grill
DESCRIPTION:7:00 AM meet in parking lot\, with breakfast at 7:30 AM. Don’t forget to bring your food and/or paper products for the North Alabama Food Bank.
URL:https://hod.pca.org/event/hod-pit-stop-and-breakfast-eggs-up-grill/
LOCATION:Eggs Up Grill\, 300 Hughes Rd\, Madison\, AL
END:VEVENT
BEGIN:VEVENT
DTSTART;TZID=America/Chicago:20240711T180000
DTEND;TZID=America/Chicago:20240711T200000
DTSTAMP:20260423T102057
CREATED:20240313T175327Z
LAST-MODIFIED:20240423T153428Z
UID:523-1720720800-1720728000@hod.pca.org
SUMMARY:HOD Monthly Members Dinner Meeting - Luigi's Italian Grill
DESCRIPTION:Meet in the parking lot by 6:00 PM and we’ll move indoors for dinner at 6:30 PM. Call or text our Club Social Chair Melanie Nord\, @ (256) 683-0863 for dinner reservations.
URL:https://hod.pca.org/event/hod-monthly-members-dinner-meeting-4/
LOCATION:Luigi’s Italian Grill\, 7559 Hwy 72 W Suite 112\, Madison\, AL\, 35758\, United States
CATEGORIES:Member Dinner
END:VEVENT
BEGIN:VEVENT
DTSTART;TZID=America/Chicago:20240727T080000
DTEND;TZID=America/Chicago:20240727T093000
DTSTAMP:20260423T102057
CREATED:20240313T180921Z
LAST-MODIFIED:20240423T153808Z
UID:529-1722067200-1722072600@hod.pca.org
SUMMARY:Porsches & Coffee - Variety Bake Shop
DESCRIPTION:Bring your Porsche(s). Get a coffee and sweet. Have a nice chat and get a great start to your weekend. Park across the street at the courthouse. Bodacious donuts and pastries. \n 
URL:https://hod.pca.org/event/porsches-coffee-3/
LOCATION:Variety Bake Shop\, 108 E Peachtree St\, Scottsboro\, AL 35768\, Scottsboro\, AL\, 35768\, United States
CATEGORIES:Porsches & Coffee
END:VEVENT
END:VCALENDAR