BEGIN:VCALENDAR
VERSION:2.0
PRODID:-// - ECPv6.15.20//NONSGML v1.0//EN
CALSCALE:GREGORIAN
METHOD:PUBLISH
X-ORIGINAL-URL:https://hod.pca.org
X-WR-CALDESC:Events for 
REFRESH-INTERVAL;VALUE=DURATION:PT1H
X-Robots-Tag:noindex
X-PUBLISHED-TTL:PT1H
BEGIN:VTIMEZONE
TZID:America/Chicago
BEGIN:DAYLIGHT
TZOFFSETFROM:-0600
TZOFFSETTO:-0500
TZNAME:CDT
DTSTART:20230312T080000
END:DAYLIGHT
BEGIN:STANDARD
TZOFFSETFROM:-0500
TZOFFSETTO:-0600
TZNAME:CST
DTSTART:20231105T070000
END:STANDARD
BEGIN:DAYLIGHT
TZOFFSETFROM:-0600
TZOFFSETTO:-0500
TZNAME:CDT
DTSTART:20240310T080000
END:DAYLIGHT
BEGIN:STANDARD
TZOFFSETFROM:-0500
TZOFFSETTO:-0600
TZNAME:CST
DTSTART:20241103T070000
END:STANDARD
BEGIN:DAYLIGHT
TZOFFSETFROM:-0600
TZOFFSETTO:-0500
TZNAME:CDT
DTSTART:20250309T080000
END:DAYLIGHT
BEGIN:STANDARD
TZOFFSETFROM:-0500
TZOFFSETTO:-0600
TZNAME:CST
DTSTART:20251102T070000
END:STANDARD
END:VTIMEZONE
BEGIN:VTIMEZONE
TZID:America/New_York
BEGIN:DAYLIGHT
TZOFFSETFROM:-0500
TZOFFSETTO:-0400
TZNAME:EDT
DTSTART:20230312T070000
END:DAYLIGHT
BEGIN:STANDARD
TZOFFSETFROM:-0400
TZOFFSETTO:-0500
TZNAME:EST
DTSTART:20231105T060000
END:STANDARD
BEGIN:DAYLIGHT
TZOFFSETFROM:-0500
TZOFFSETTO:-0400
TZNAME:EDT
DTSTART:20240310T070000
END:DAYLIGHT
BEGIN:STANDARD
TZOFFSETFROM:-0400
TZOFFSETTO:-0500
TZNAME:EST
DTSTART:20241103T060000
END:STANDARD
BEGIN:DAYLIGHT
TZOFFSETFROM:-0500
TZOFFSETTO:-0400
TZNAME:EDT
DTSTART:20250309T070000
END:DAYLIGHT
BEGIN:STANDARD
TZOFFSETFROM:-0400
TZOFFSETTO:-0500
TZNAME:EST
DTSTART:20251102T060000
END:STANDARD
END:VTIMEZONE
BEGIN:VEVENT
DTSTART;TZID=America/Chicago:20240907T070000
DTEND;TZID=America/Chicago:20240907T090000
DTSTAMP:20260423T073818
CREATED:20240423T145643Z
LAST-MODIFIED:20240423T145747Z
UID:712-1725692400-1725699600@hod.pca.org
SUMMARY:HOD Pit Stop Social and Breakfast - Shaggy's
DESCRIPTION:7:00AM assemble in the parking lot\, move inside for breakfast at 7:30AM.  Remember to bring your food items or paper products for the Food Bank of North Alabama.
URL:https://hod.pca.org/event/hod-pit-stop-breakfast-and-social-2/
LOCATION:Shaggy’s Burgers and Tacos\, 1267 Enterprise Way\, Huntsville\, AL
END:VEVENT
BEGIN:VEVENT
DTSTART;TZID=America/Chicago:20240912T180000
DTEND;TZID=America/Chicago:20240912T200000
DTSTAMP:20260423T073818
CREATED:20240316T154717Z
LAST-MODIFIED:20240601T214904Z
UID:559-1726164000-1726171200@hod.pca.org
SUMMARY:HOD Monthly Members Dinner Meeting - Wintzell's Oyster House
DESCRIPTION:Meet in the parking lot by 6:00 PM and we’ll move indoors for dinner at 6:30 PM. Call or text our Club Social Chair Melanie Nord\, @ (256) 683-0863 for dinner reservations.
URL:https://hod.pca.org/event/hod-monthly-dinner-meeting/
LOCATION:Wintzell’s Oyster House\, 14455 US-431\, Guntersville\, AL\, 35976
CATEGORIES:Member Dinner
END:VEVENT
BEGIN:VEVENT
DTSTART;TZID=America/Chicago:20240921T080000
DTEND;TZID=America/Chicago:20240921T120000
DTSTAMP:20260423T073818
CREATED:20240423T145051Z
LAST-MODIFIED:20240913T220526Z
UID:710-1726905600-1726920000@hod.pca.org
SUMMARY:HOD Driving Tour - Smith Lake - Carlile
DESCRIPTION:8:00 AM – Assemble at Walmart parking lot\, 11610 Memorial Pkwy SW for Drivers Safety Briefing and route guidance. Depart promptly at 8:30 AM for tour to Smith Lake and lunch at the Trident Grill..
URL:https://hod.pca.org/event/hod-driving-tour-lookout-mountain-tn-carlile/
LOCATION:Trident Grill\, 21680 CR222\, Crane Hill\, AL\, United States
END:VEVENT
BEGIN:VEVENT
DTSTART;TZID=America/New_York:20240921T080000
DTEND;TZID=America/New_York:20240921T140000
DTSTAMP:20260423T073818
CREATED:20240817T194921Z
LAST-MODIFIED:20240817T194921Z
UID:804-1726905600-1726927200@hod.pca.org
SUMMARY:11th Annual Concours d'Musik-Stadt
DESCRIPTION:The Nashville Club invites the Heart O’ Dixie members to participate in their annual Concours.  They have fewer classes this year since the 356s are all in a single class and other classes now conform to the new PCA Concours standard.  Special Porsches are invited to participate in the display area.  Registration is open until September 18th; entrance fee is $60 per vehicle with a maximum of three entries per person.  Spectators are invited and parking is free.  Registration includes the tee-shirt and door prizes include two $500 gift certificates from Porsche of Nashville and a set of tires.  There are no HOD events conflicting with this date.  Go to https://msknew.pca.org/ to register.
URL:https://hod.pca.org/event/11th-annual-concours-dmusik-stadt/
LOCATION:AL
END:VEVENT
BEGIN:VEVENT
DTSTART;TZID=America/Chicago:20240928T080000
DTEND;TZID=America/Chicago:20240928T093000
DTSTAMP:20260423T073818
CREATED:20240423T144259Z
LAST-MODIFIED:20240423T144259Z
UID:707-1727510400-1727515800@hod.pca.org
SUMMARY:HOD Porsches & Coffee - Decatur Krispy Kreme Donuts
DESCRIPTION:Bring your Porsche(s). Get a coffee and sweet. Have a nice chat and get a great start to your weekend.
URL:https://hod.pca.org/event/hod-porsches-coffee-decatur-krispy-kreme-donuts/
LOCATION:Decatur Krispy Kreme Donuts\, 1648 Beltline Rd SW\, Decatur\, AL
END:VEVENT
END:VCALENDAR