BEGIN:VCALENDAR
VERSION:2.0
PRODID:-// - ECPv6.15.20//NONSGML v1.0//EN
CALSCALE:GREGORIAN
METHOD:PUBLISH
X-ORIGINAL-URL:https://hod.pca.org
X-WR-CALDESC:Events for 
REFRESH-INTERVAL;VALUE=DURATION:PT1H
X-Robots-Tag:noindex
X-PUBLISHED-TTL:PT1H
BEGIN:VTIMEZONE
TZID:America/Chicago
BEGIN:DAYLIGHT
TZOFFSETFROM:-0600
TZOFFSETTO:-0500
TZNAME:CDT
DTSTART:20230312T080000
END:DAYLIGHT
BEGIN:STANDARD
TZOFFSETFROM:-0500
TZOFFSETTO:-0600
TZNAME:CST
DTSTART:20231105T070000
END:STANDARD
BEGIN:DAYLIGHT
TZOFFSETFROM:-0600
TZOFFSETTO:-0500
TZNAME:CDT
DTSTART:20240310T080000
END:DAYLIGHT
BEGIN:STANDARD
TZOFFSETFROM:-0500
TZOFFSETTO:-0600
TZNAME:CST
DTSTART:20241103T070000
END:STANDARD
BEGIN:DAYLIGHT
TZOFFSETFROM:-0600
TZOFFSETTO:-0500
TZNAME:CDT
DTSTART:20250309T080000
END:DAYLIGHT
BEGIN:STANDARD
TZOFFSETFROM:-0500
TZOFFSETTO:-0600
TZNAME:CST
DTSTART:20251102T070000
END:STANDARD
END:VTIMEZONE
BEGIN:VTIMEZONE
TZID:America/New_York
BEGIN:DAYLIGHT
TZOFFSETFROM:-0500
TZOFFSETTO:-0400
TZNAME:EDT
DTSTART:20230312T070000
END:DAYLIGHT
BEGIN:STANDARD
TZOFFSETFROM:-0400
TZOFFSETTO:-0500
TZNAME:EST
DTSTART:20231105T060000
END:STANDARD
BEGIN:DAYLIGHT
TZOFFSETFROM:-0500
TZOFFSETTO:-0400
TZNAME:EDT
DTSTART:20240310T070000
END:DAYLIGHT
BEGIN:STANDARD
TZOFFSETFROM:-0400
TZOFFSETTO:-0500
TZNAME:EST
DTSTART:20241103T060000
END:STANDARD
BEGIN:DAYLIGHT
TZOFFSETFROM:-0500
TZOFFSETTO:-0400
TZNAME:EDT
DTSTART:20250309T070000
END:DAYLIGHT
BEGIN:STANDARD
TZOFFSETFROM:-0400
TZOFFSETTO:-0500
TZNAME:EST
DTSTART:20251102T060000
END:STANDARD
END:VTIMEZONE
BEGIN:VEVENT
DTSTART;TZID=America/Chicago:20241102T070000
DTEND;TZID=America/Chicago:20241102T090000
DTSTAMP:20260422T201307
CREATED:20240423T155151Z
LAST-MODIFIED:20240423T155151Z
UID:738-1730530800-1730538000@hod.pca.org
SUMMARY:HOD Pit Stop Social and Breakfast - Mason Dixon Bakery & Bistro
DESCRIPTION:7:00 Meet in parking lot; 7:30 AM go inside for breakfast. Don’t forget to bring your food and/or paper products for the North Alabama Food Bank.
URL:https://hod.pca.org/event/hod-pit-stop-social-and-breakfast-mason-dixon-bakery-bistro/
LOCATION:Mason Dixon Bakery & Bistro\, 415 Church St NW\, Huntsville\, AL
END:VEVENT
BEGIN:VEVENT
DTSTART;TZID=America/Chicago:20241109T080000
DTEND;TZID=America/Chicago:20241109T120000
DTSTAMP:20260422T201307
CREATED:20240423T142302Z
LAST-MODIFIED:20240423T142302Z
UID:698-1731139200-1731153600@hod.pca.org
SUMMARY:HOD Driving Tour - Murfreesboro TN - Genovese
DESCRIPTION:8:00  AM assemble at Planet Fitness parking lot\, Madison (corner of Wall Triana and 72W) for Drivers Safety Briefing and route guidance. Depart promptly at 8:30 AM for tour with lunch at Demos’ Family Steakhouse\, 1115 NW Broad St\, Murfreesboro\, TN.
URL:https://hod.pca.org/event/hod-driving-tour-murfreesboro-tn-genovese/
LOCATION:Demos’ Family Steakhouse\, 1115 NW Broad St\, Murfreesboro\, TN
END:VEVENT
BEGIN:VEVENT
DTSTART;TZID=America/Chicago:20241114T180000
DTEND;TZID=America/Chicago:20241114T200000
DTSTAMP:20260422T201307
CREATED:20240316T153805Z
LAST-MODIFIED:20240601T215036Z
UID:548-1731607200-1731614400@hod.pca.org
SUMMARY:HOD Monthly Members Dinner Meeting - Ted's BBQ
DESCRIPTION:Meet in the parking lot by 6:00 PM and we’ll move indoors for dinner at 6:30 PM. Call or text our Club Social Chair Melanie Nord\, @ (256) 683-0863 for dinner reservations.
URL:https://hod.pca.org/event/hod-monthly-members-dinner-meeting-6/
LOCATION:Ted’s Bar-B-Q\, 8780 Madison Blvd\, madison\, AL\, 35758\, United States
CATEGORIES:Member Dinner
END:VEVENT
BEGIN:VEVENT
DTSTART;TZID=America/Chicago:20241116T080000
DTEND;TZID=America/Chicago:20241116T100000
DTSTAMP:20260422T201307
CREATED:20240718T122559Z
LAST-MODIFIED:20240817T195305Z
UID:798-1731744000-1731751200@hod.pca.org
SUMMARY:Tech Session - Martin Folgmann's Porsche Barn
DESCRIPTION:
URL:https://hod.pca.org/event/tech-session-martin-folgmanns-porsche-barn/
LOCATION:Martin Folgmann’s Porsche Barn\, 58 Martin St\, Old Town Madison\, AL\, United States
END:VEVENT
BEGIN:VEVENT
DTSTART;TZID=America/New_York:20241130T080000
DTEND;TZID=America/New_York:20241130T093000
DTSTAMP:20260422T201307
CREATED:20240423T155843Z
LAST-MODIFIED:20241024T144732Z
UID:743-1732953600-1732959000@hod.pca.org
SUMMARY:HOD Porsches & Coffee - Athens North Starbucks
DESCRIPTION:Bring your Porsche(s). Get a coffee and sweet. Have a nice chat and get a great start to your weekend.
URL:https://hod.pca.org/event/hod-porsches-coffee-athens-starbucks/
LOCATION:Athens Starbucks\, 197 Highway 31 North\, Athens\, AL
END:VEVENT
END:VCALENDAR