BEGIN:VCALENDAR
VERSION:2.0
PRODID:-// - ECPv6.15.20//NONSGML v1.0//EN
CALSCALE:GREGORIAN
METHOD:PUBLISH
X-ORIGINAL-URL:https://hod.pca.org
X-WR-CALDESC:Events for 
REFRESH-INTERVAL;VALUE=DURATION:PT1H
X-Robots-Tag:noindex
X-PUBLISHED-TTL:PT1H
BEGIN:VTIMEZONE
TZID:America/Chicago
BEGIN:DAYLIGHT
TZOFFSETFROM:-0600
TZOFFSETTO:-0500
TZNAME:CDT
DTSTART:20230312T080000
END:DAYLIGHT
BEGIN:STANDARD
TZOFFSETFROM:-0500
TZOFFSETTO:-0600
TZNAME:CST
DTSTART:20231105T070000
END:STANDARD
BEGIN:DAYLIGHT
TZOFFSETFROM:-0600
TZOFFSETTO:-0500
TZNAME:CDT
DTSTART:20240310T080000
END:DAYLIGHT
BEGIN:STANDARD
TZOFFSETFROM:-0500
TZOFFSETTO:-0600
TZNAME:CST
DTSTART:20241103T070000
END:STANDARD
BEGIN:DAYLIGHT
TZOFFSETFROM:-0600
TZOFFSETTO:-0500
TZNAME:CDT
DTSTART:20250309T080000
END:DAYLIGHT
BEGIN:STANDARD
TZOFFSETFROM:-0500
TZOFFSETTO:-0600
TZNAME:CST
DTSTART:20251102T070000
END:STANDARD
END:VTIMEZONE
BEGIN:VTIMEZONE
TZID:America/New_York
BEGIN:DAYLIGHT
TZOFFSETFROM:-0500
TZOFFSETTO:-0400
TZNAME:EDT
DTSTART:20230312T070000
END:DAYLIGHT
BEGIN:STANDARD
TZOFFSETFROM:-0400
TZOFFSETTO:-0500
TZNAME:EST
DTSTART:20231105T060000
END:STANDARD
BEGIN:DAYLIGHT
TZOFFSETFROM:-0500
TZOFFSETTO:-0400
TZNAME:EDT
DTSTART:20240310T070000
END:DAYLIGHT
BEGIN:STANDARD
TZOFFSETFROM:-0400
TZOFFSETTO:-0500
TZNAME:EST
DTSTART:20241103T060000
END:STANDARD
BEGIN:DAYLIGHT
TZOFFSETFROM:-0500
TZOFFSETTO:-0400
TZNAME:EDT
DTSTART:20250309T070000
END:DAYLIGHT
BEGIN:STANDARD
TZOFFSETFROM:-0400
TZOFFSETTO:-0500
TZNAME:EST
DTSTART:20251102T060000
END:STANDARD
END:VTIMEZONE
BEGIN:VEVENT
DTSTART;TZID=America/Chicago:20241207T070000
DTEND;TZID=America/Chicago:20241207T090000
DTSTAMP:20260423T040101
CREATED:20240316T154945Z
LAST-MODIFIED:20240423T160109Z
UID:562-1733554800-1733562000@hod.pca.org
SUMMARY:HOD Pit Stop Breakfast and Social - Cracker Barrel Madison
DESCRIPTION:7:00 AM – Social in parking lot.\n7:30 AM – Breakfast inside as desired. Don’t forget to bring a food item for your contribution to the North Alabama Food Bank.
URL:https://hod.pca.org/event/hod-pit-stop-breakfast-and-social/
LOCATION:Cracker Barrel\, 120 Cleghorn Blvd\, Madison\, AL\, 35758
CATEGORIES:Pit Stop Breakfast
END:VEVENT
BEGIN:VEVENT
DTSTART;TZID=America/New_York:20241207T090000
DTEND;TZID=America/New_York:20241207T110000
DTSTAMP:20260423T040101
CREATED:20240316T155039Z
LAST-MODIFIED:20240528T183827Z
UID:565-1733562000-1733569200@hod.pca.org
SUMMARY:HOD Board of Directors Meeting
DESCRIPTION:Any HOD member is welcome to attend. Century Porsche Conference Room.
URL:https://hod.pca.org/event/hod-board-of-directors-meeting/
LOCATION:Century Porsche\, 3810 University Dr NW\, Huntsville\, AL\, 35816\, United States
CATEGORIES:Board Meeting
END:VEVENT
BEGIN:VEVENT
DTSTART;TZID=America/Chicago:20241208T150000
DTEND;TZID=America/Chicago:20241208T170000
DTSTAMP:20260423T040101
CREATED:20240316T155220Z
LAST-MODIFIED:20241208T203206Z
UID:567-1733670000-1733677200@hod.pca.org
SUMMARY:HOD Annual Business Meeting
DESCRIPTION:Annual Business Meeting to inaugurate the 2025 Club Officers\, announce the Enthusiast of the Year\, collect the toys and clothes for the Kids to Love charity\, and distribute Door Prizes.
URL:https://hod.pca.org/event/hod-annual-business-meeting/
LOCATION:Porsche Huntsville\, 3800 University Dr\, Huntsville\, AL\, 35816\, United States
CATEGORIES:Business Meeting
END:VEVENT
BEGIN:VEVENT
DTSTART;TZID=America/Chicago:20241208T170000
DTEND;TZID=America/Chicago:20241208T200000
DTSTAMP:20260423T040101
CREATED:20240316T155358Z
LAST-MODIFIED:20241208T203321Z
UID:569-1733677200-1733688000@hod.pca.org
SUMMARY:HOD Annual Holiday Dinner
DESCRIPTION:5:00 PM after Annual Business Meeting\, drive to the Valley Hill Country Club for a social hour followed by the Holiday Dinner 6:00 PM – 8:00 PM.
URL:https://hod.pca.org/event/hod-annual-holiday-dinner/
LOCATION:Valley Hill Country Club\, 8300 Valley Hill Dr SE\, Huntsville\, AL\, 35802\, United States
CATEGORIES:Member Dinner
END:VEVENT
BEGIN:VEVENT
DTSTART;TZID=America/Chicago:20241212T180000
DTEND;TZID=America/Chicago:20241212T200000
DTSTAMP:20260423T040101
CREATED:20240513T134733Z
LAST-MODIFIED:20240513T134733Z
UID:764-1734026400-1734033600@hod.pca.org
SUMMARY:HOD Monthly Members Dinner Meeting - Jonathan's Grille
DESCRIPTION:Meet in the parking lot by 6:00 PM and we’ll move indoors for dinner at 6:30 PM. Call or text our Club Social Chair Melanie Nord\, @ (256) 683-0863 for dinner reservations.
URL:https://hod.pca.org/event/hod-monthly-members-dinner-meeting-jonathans-grille/
LOCATION:Jonathan’s Grille\, 8184 Hwy 72 W\, Madison\, 35758\, United States
END:VEVENT
BEGIN:VEVENT
DTSTART;TZID=America/Chicago:20241228T080000
DTEND;TZID=America/Chicago:20241228T093000
DTSTAMP:20260423T040101
CREATED:20240905T130356Z
LAST-MODIFIED:20241201T002316Z
UID:809-1735372800-1735378200@hod.pca.org
SUMMARY:HOD Porsches & Coffee - Just for the Love of Coffee Cafe
DESCRIPTION:Bring your Porsche(s). Get a coffee and sweet. Have a nice chat and get a great start to your weekend. 
URL:https://hod.pca.org/event/hod-porsches-coffee-1st-american-filling-station/
LOCATION:Just Love Coffee Cafe\, 181 Hughes Rd\, Madison\, TN\, United States
END:VEVENT
END:VCALENDAR