BEGIN:VCALENDAR
VERSION:2.0
PRODID:-// - ECPv6.15.20//NONSGML v1.0//EN
CALSCALE:GREGORIAN
METHOD:PUBLISH
X-ORIGINAL-URL:https://hod.pca.org
X-WR-CALDESC:Events for 
REFRESH-INTERVAL;VALUE=DURATION:PT1H
X-Robots-Tag:noindex
X-PUBLISHED-TTL:PT1H
BEGIN:VTIMEZONE
TZID:America/Chicago
BEGIN:DAYLIGHT
TZOFFSETFROM:-0600
TZOFFSETTO:-0500
TZNAME:CDT
DTSTART:20240310T080000
END:DAYLIGHT
BEGIN:STANDARD
TZOFFSETFROM:-0500
TZOFFSETTO:-0600
TZNAME:CST
DTSTART:20241103T070000
END:STANDARD
BEGIN:DAYLIGHT
TZOFFSETFROM:-0600
TZOFFSETTO:-0500
TZNAME:CDT
DTSTART:20250309T080000
END:DAYLIGHT
BEGIN:STANDARD
TZOFFSETFROM:-0500
TZOFFSETTO:-0600
TZNAME:CST
DTSTART:20251102T070000
END:STANDARD
BEGIN:DAYLIGHT
TZOFFSETFROM:-0600
TZOFFSETTO:-0500
TZNAME:CDT
DTSTART:20260308T080000
END:DAYLIGHT
BEGIN:STANDARD
TZOFFSETFROM:-0500
TZOFFSETTO:-0600
TZNAME:CST
DTSTART:20261101T070000
END:STANDARD
END:VTIMEZONE
BEGIN:VEVENT
DTSTART;TZID=America/Chicago:20250104T070000
DTEND;TZID=America/Chicago:20250104T090000
DTSTAMP:20260422T201320
CREATED:20241031T123811Z
LAST-MODIFIED:20241031T123811Z
UID:826-1735974000-1735981200@hod.pca.org
SUMMARY:HOD Pit Stop Social and Breakfast - Edgar's in Providence
DESCRIPTION:7:00 AM meet in parking lot; 7:30 AM go inside for breakfast. Don’t forget to bring your food and/or paper products for the North Alabama Food Bank.
URL:https://hod.pca.org/event/hod-pit-stop-social-and-breakfast-edgars-in-providence/
LOCATION:Edgar’s Providence\, 472 Providence Main St\, Huntsville\, AL
END:VEVENT
BEGIN:VEVENT
DTSTART;TZID=America/Chicago:20250104T090000
DTEND;TZID=America/Chicago:20250104T120000
DTSTAMP:20260422T201320
CREATED:20241031T124359Z
LAST-MODIFIED:20241031T124359Z
UID:828-1735981200-1735992000@hod.pca.org
SUMMARY:HOD Board of Directors Meeting
DESCRIPTION:Annual Financial Review following breakfast\, 09:00-10:00AM\, Century Porsche Conference Room.\n1st Quarter BOD Meeting at the Century Porsche Conference Room follows the Financial Review\, 10:00 AM -12:00 PM.
URL:https://hod.pca.org/event/hod-board-of-directors-meeting-2/
LOCATION:Century Porsche\, 3810 University Dr NW\, Huntsville\, AL\, 35816\, United States
END:VEVENT
BEGIN:VEVENT
DTSTART;TZID=America/Chicago:20250109T180000
DTEND;TZID=America/Chicago:20250109T200000
DTSTAMP:20260422T201320
CREATED:20241031T124844Z
LAST-MODIFIED:20241031T130751Z
UID:830-1736445600-1736452800@hod.pca.org
SUMMARY:HOD Monthly Members Dinner Meeting - PaPPo's Pizzeria & Pub
DESCRIPTION:6:00 PM assemble in the parking lot; move inside at 6:30 PM for dinner. Please call or text our Club Social Chair Melanie Nord (256) 683-0863 for dinner reservations.
URL:https://hod.pca.org/event/hod-monthly-members-dinner-meeting-5/
LOCATION:PaPPo’s Pizzeria & Pub\, 7540 Memorial Pkwy SW\, Huntsville\, AL\, 35802\, United States
END:VEVENT
BEGIN:VEVENT
DTSTART;TZID=America/Chicago:20250118T080000
DTEND;TZID=America/Chicago:20250118T093000
DTSTAMP:20260422T201320
CREATED:20241205T180353Z
LAST-MODIFIED:20241205T180353Z
UID:883-1737187200-1737192600@hod.pca.org
SUMMARY:HOD Porsches & Coffee - Hamley Bake Shoppe
DESCRIPTION:Bring your Porsche(s). Get a coffee and sweet. Have a nice chat and get a great start to your weekend. 
URL:https://hod.pca.org/event/hod-porsches-coffee-hamley-bake-shoppe/
LOCATION:Hamley’s Bake Shoppe\, 12023 US-231 431 N\, Meridianville\, AL\, 35759\, United States
END:VEVENT
BEGIN:VEVENT
DTSTART;TZID=America/Chicago:20250125T080000
DTEND;TZID=America/Chicago:20250125T120000
DTSTAMP:20260422T201320
CREATED:20241101T215553Z
LAST-MODIFIED:20241205T181115Z
UID:853-1737792000-1737806400@hod.pca.org
SUMMARY:HOD Driving Tour - Ricatoni's Italian Grill - Cambron
DESCRIPTION:8:00 AM assemble at Planet Fitness parking lot\, Madison (corner of Wall Triana and 72W) for Drivers Safety Briefing and route guidance. Depart promptly at 8:30 AM for tour with lunch at Ricatoni’s Italian Grill in Florence\, 107 N Court St. Tour length ~ 150 miles.
URL:https://hod.pca.org/event/porsches-coffee-pjs-coffee/
LOCATION:Planet Fitness Madison\, 8050 Hwy 72 W\, Madison\, AL\, 35758
END:VEVENT
END:VCALENDAR