BEGIN:VCALENDAR
VERSION:2.0
PRODID:-// - ECPv6.15.20//NONSGML v1.0//EN
CALSCALE:GREGORIAN
METHOD:PUBLISH
X-ORIGINAL-URL:https://hod.pca.org
X-WR-CALDESC:Events for 
REFRESH-INTERVAL;VALUE=DURATION:PT1H
X-Robots-Tag:noindex
X-PUBLISHED-TTL:PT1H
BEGIN:VTIMEZONE
TZID:America/Chicago
BEGIN:DAYLIGHT
TZOFFSETFROM:-0600
TZOFFSETTO:-0500
TZNAME:CDT
DTSTART:20240310T080000
END:DAYLIGHT
BEGIN:STANDARD
TZOFFSETFROM:-0500
TZOFFSETTO:-0600
TZNAME:CST
DTSTART:20241103T070000
END:STANDARD
BEGIN:DAYLIGHT
TZOFFSETFROM:-0600
TZOFFSETTO:-0500
TZNAME:CDT
DTSTART:20250309T080000
END:DAYLIGHT
BEGIN:STANDARD
TZOFFSETFROM:-0500
TZOFFSETTO:-0600
TZNAME:CST
DTSTART:20251102T070000
END:STANDARD
BEGIN:DAYLIGHT
TZOFFSETFROM:-0600
TZOFFSETTO:-0500
TZNAME:CDT
DTSTART:20260308T080000
END:DAYLIGHT
BEGIN:STANDARD
TZOFFSETFROM:-0500
TZOFFSETTO:-0600
TZNAME:CST
DTSTART:20261101T070000
END:STANDARD
END:VTIMEZONE
BEGIN:VTIMEZONE
TZID:America/New_York
BEGIN:DAYLIGHT
TZOFFSETFROM:-0500
TZOFFSETTO:-0400
TZNAME:EDT
DTSTART:20240310T070000
END:DAYLIGHT
BEGIN:STANDARD
TZOFFSETFROM:-0400
TZOFFSETTO:-0500
TZNAME:EST
DTSTART:20241103T060000
END:STANDARD
BEGIN:DAYLIGHT
TZOFFSETFROM:-0500
TZOFFSETTO:-0400
TZNAME:EDT
DTSTART:20250309T070000
END:DAYLIGHT
BEGIN:STANDARD
TZOFFSETFROM:-0400
TZOFFSETTO:-0500
TZNAME:EST
DTSTART:20251102T060000
END:STANDARD
BEGIN:DAYLIGHT
TZOFFSETFROM:-0500
TZOFFSETTO:-0400
TZNAME:EDT
DTSTART:20260308T070000
END:DAYLIGHT
BEGIN:STANDARD
TZOFFSETFROM:-0400
TZOFFSETTO:-0500
TZNAME:EST
DTSTART:20261101T060000
END:STANDARD
END:VTIMEZONE
BEGIN:VEVENT
DTSTART;TZID=America/Chicago:20250201T070000
DTEND;TZID=America/Chicago:20250201T090000
DTSTAMP:20260422T145455
CREATED:20241031T125157Z
LAST-MODIFIED:20241031T131543Z
UID:833-1738393200-1738400400@hod.pca.org
SUMMARY:HOD Pit Stop Social and Breakfast - City Cafe Diner
DESCRIPTION:7:00 AM meet in parking lot; 7:30 AM move inside for breakfast. Don’t forget to bring your food and/or paper products for the North Alabama Food Bank.
URL:https://hod.pca.org/event/hod-pit-stop-social-and-breakfast-5/
LOCATION:City Cafe Diner\, 2003 Drake Ave SW\, Huntsville\, AL\, 35801\, United States
END:VEVENT
BEGIN:VEVENT
DTSTART;TZID=America/New_York:20250202T080000
DTEND;TZID=America/New_York:20250202T120000
DTSTAMP:20260422T145455
CREATED:20250130T151339Z
LAST-MODIFIED:20250130T151339Z
UID:953-1738483200-1738497600@hod.pca.org
SUMMARY:EuroSunday Car Show
DESCRIPTION:EuroSunday\, an optional event for HOD members and all sports car owners is back THIS Sunday: Feb 2nd\, 8:00AM\, assemble in the Turbo Coffee parking lot\, 1300 Meridian St. N\, Huntsville.  EuroSunday was scheduled to return March 30th\, but the nice weather prompted them to come early!  While many of our Club members will be in attendance\, this is not an Enthusiast of the Year event.      
URL:https://hod.pca.org/event/eurosunday-car-show-3/
LOCATION:EuroSunday\, 1300 Meridian St N\, Huntsville\, AL\, United States
END:VEVENT
BEGIN:VEVENT
DTSTART;TZID=America/New_York:20250213T180000
DTEND;TZID=America/New_York:20250213T200000
DTSTAMP:20260422T145455
CREATED:20241031T125536Z
LAST-MODIFIED:20241031T131311Z
UID:835-1739469600-1739476800@hod.pca.org
SUMMARY:HOD Monthly Members Dinner Meeting - Luigi's Italian Grill
DESCRIPTION:6:00 PM assemble in the parking lot at Luigi’s Italian Grill\, 7559 US-72\, Madison; move inside at 6:30 PM for dinner. Please call or text our Club Social Chair\nMelanie Nord (256) 683-0863 for dinner reservations.
URL:https://hod.pca.org/event/hod-monthly-members-dinner-meeting-8/
LOCATION:Luigi’s Italian Grill\, 7559 Hwy 72 W Suite 112\, Madison\, AL\, 35758\, United States
END:VEVENT
BEGIN:VEVENT
DTSTART;TZID=America/Chicago:20250215T080000
DTEND;TZID=America/Chicago:20250215T120000
DTSTAMP:20260422T145455
CREATED:20241101T220211Z
LAST-MODIFIED:20250213T212059Z
UID:856-1739606400-1739620800@hod.pca.org
SUMMARY:HOD Driving Tour - Prichard's Distillery - Bayuga - Update: Event Cancelled Due to Weather
DESCRIPTION:8:00 AM assemble at Hwy53/Publix parking lot\, 5850 AL-53\, Harvest\, for Drivers Safety Briefing and route guidance. Depart promptly at 8:30 AM for tour to Prichard’s Distillery followed by lunch at the Seafood Place\, 105 NW Atlantic St\, Tullahoma TN.
URL:https://hod.pca.org/event/hod-driving-tour-prichards-distillery-bayuga/
LOCATION:Publix at Harvest Sq\, 5850 AL-53\, Harvest\, AL\, 35749\, United States
END:VEVENT
BEGIN:VEVENT
DTSTART;TZID=America/Chicago:20250222T080000
DTEND;TZID=America/Chicago:20250222T093000
DTSTAMP:20260422T145455
CREATED:20241206T170933Z
LAST-MODIFIED:20241206T170933Z
UID:887-1740211200-1740216600@hod.pca.org
SUMMARY:HOD Porsches & Coffee - L'Etoile Patisserie
DESCRIPTION:Bring your Porsche(s). Get a coffee and sweet. Have a nice chat and get a great start to your weekend. 
URL:https://hod.pca.org/event/hod-porsches-coffee-letoile-patisserie/
LOCATION:L’Etoile Patisserie\, 1214 Meridian St N\, Huntsville\, AL\, 35801\, United States
END:VEVENT
END:VCALENDAR