BEGIN:VCALENDAR
VERSION:2.0
PRODID:-// - ECPv6.15.20//NONSGML v1.0//EN
CALSCALE:GREGORIAN
METHOD:PUBLISH
X-ORIGINAL-URL:https://hod.pca.org
X-WR-CALDESC:Events for 
REFRESH-INTERVAL;VALUE=DURATION:PT1H
X-Robots-Tag:noindex
X-PUBLISHED-TTL:PT1H
BEGIN:VTIMEZONE
TZID:America/Chicago
BEGIN:DAYLIGHT
TZOFFSETFROM:-0600
TZOFFSETTO:-0500
TZNAME:CDT
DTSTART:20240310T080000
END:DAYLIGHT
BEGIN:STANDARD
TZOFFSETFROM:-0500
TZOFFSETTO:-0600
TZNAME:CST
DTSTART:20241103T070000
END:STANDARD
BEGIN:DAYLIGHT
TZOFFSETFROM:-0600
TZOFFSETTO:-0500
TZNAME:CDT
DTSTART:20250309T080000
END:DAYLIGHT
BEGIN:STANDARD
TZOFFSETFROM:-0500
TZOFFSETTO:-0600
TZNAME:CST
DTSTART:20251102T070000
END:STANDARD
BEGIN:DAYLIGHT
TZOFFSETFROM:-0600
TZOFFSETTO:-0500
TZNAME:CDT
DTSTART:20260308T080000
END:DAYLIGHT
BEGIN:STANDARD
TZOFFSETFROM:-0500
TZOFFSETTO:-0600
TZNAME:CST
DTSTART:20261101T070000
END:STANDARD
END:VTIMEZONE
BEGIN:VTIMEZONE
TZID:America/New_York
BEGIN:DAYLIGHT
TZOFFSETFROM:-0500
TZOFFSETTO:-0400
TZNAME:EDT
DTSTART:20240310T070000
END:DAYLIGHT
BEGIN:STANDARD
TZOFFSETFROM:-0400
TZOFFSETTO:-0500
TZNAME:EST
DTSTART:20241103T060000
END:STANDARD
BEGIN:DAYLIGHT
TZOFFSETFROM:-0500
TZOFFSETTO:-0400
TZNAME:EDT
DTSTART:20250309T070000
END:DAYLIGHT
BEGIN:STANDARD
TZOFFSETFROM:-0400
TZOFFSETTO:-0500
TZNAME:EST
DTSTART:20251102T060000
END:STANDARD
BEGIN:DAYLIGHT
TZOFFSETFROM:-0500
TZOFFSETTO:-0400
TZNAME:EDT
DTSTART:20260308T070000
END:DAYLIGHT
BEGIN:STANDARD
TZOFFSETFROM:-0400
TZOFFSETTO:-0500
TZNAME:EST
DTSTART:20261101T060000
END:STANDARD
END:VTIMEZONE
BEGIN:VEVENT
DTSTART;TZID=America/Chicago:20250301T070000
DTEND;TZID=America/Chicago:20250301T090000
DTSTAMP:20260422T134245
CREATED:20241206T172712Z
LAST-MODIFIED:20250219T141042Z
UID:897-1740812400-1740819600@hod.pca.org
SUMMARY:HOD Pit Stop Breakfast and Social - IHOP; Driving Tour Leadership Class
DESCRIPTION:7:00 AM – Social in parking lot.\n7:30 AM – Breakfast inside as desired. Don’t forget to bring a food item for your contribution to the North Alabama Food Bank. \nFollowing Breakfast Rich LeClaire\, Region Driving Tour Leader\, will present a class on Driving Tour Leadership Class for New Leaders and a Refresher Class for experienced Leaders.  Students receive complementary breakfast.  Send Rich an email to enroll in the class:  leclairerichardp@gmail.com and schedule to lead a Driving Tour in 2025. \n 
URL:https://hod.pca.org/event/hod-pit-stop-breakfast-and-social-ihop/
LOCATION:IHOP\, 8622 Hwy 72 W\, Madison\, AL\, 35758\, United States
END:VEVENT
BEGIN:VEVENT
DTSTART;TZID=America/Chicago:20250308T090000
DTEND;TZID=America/Chicago:20250308T103000
DTSTAMP:20260422T134245
CREATED:20250116T173959Z
LAST-MODIFIED:20250116T173959Z
UID:941-1741424400-1741429800@hod.pca.org
SUMMARY:HOD Tech Session - AutoworkZ
DESCRIPTION:AutoworkZ Car Detailing Service Tech Session\, 2425 Jordan Lane NW\, with refreshments and coffee. Prin will explain their many products and detailing techniques plus demonstrations of their award-winning procedures.
URL:https://hod.pca.org/event/hod-tech-session-autoworkz/
LOCATION:AutoworkZ\, 2425 Jordan Lane NW\, Huntsville\, AL
END:VEVENT
BEGIN:VEVENT
DTSTART;TZID=America/Chicago:20250313T180000
DTEND;TZID=America/Chicago:20250313T200000
DTSTAMP:20260422T134245
CREATED:20241031T132141Z
LAST-MODIFIED:20250123T154401Z
UID:843-1741888800-1741896000@hod.pca.org
SUMMARY:HOD Monthly Members Dinner Meeting - La Fuente Mexican Restaurant
DESCRIPTION:6:00 PM assemble in the parking lot; move inside at 6:30 PM for dinner. Please call or text our Club Social Chair Melanie Nord (256) 683-0863 for dinner reservations.
URL:https://hod.pca.org/event/hod-monthly-members-dinner-meeting-freight-house-restaurant/
LOCATION:La Fuente\, 11785 US 231/431 N\, Meridianville\, AL
END:VEVENT
BEGIN:VEVENT
DTSTART;TZID=America/New_York:20250322T080000
DTEND;TZID=America/New_York:20250322T120000
DTSTAMP:20260422T134245
CREATED:20241101T221853Z
LAST-MODIFIED:20241101T221853Z
UID:859-1742630400-1742644800@hod.pca.org
SUMMARY:HOD Driving Tour - Miss Mary Bobo's - Bayuga
DESCRIPTION:8:00 AM assemble at Sunoco Service Station\, 1604 US 72E  for Drivers Safety Briefing and route guidance. Depart promptly at 8:30 for tour and lunch at Miss Mary Bobo’s\, 295 Main St\, Lynchburg\, TN. We have thirty reservations at a cost of $38.20 per person. Mail a check payable to Greg Bayuga\, 102 Ledgefield Cir.\, Harvest\, AL 35749.
URL:https://hod.pca.org/event/hod-driving-tour-miss-mary-bobos-bayuga-2/
LOCATION:Sunoco Service Station\, 1604 US72 E\, Huntsville\, AL\, 35811\, United States
END:VEVENT
BEGIN:VEVENT
DTSTART;TZID=America/Chicago:20250329T080000
DTEND;TZID=America/Chicago:20250329T093000
DTSTAMP:20260422T134245
CREATED:20241101T222134Z
LAST-MODIFIED:20241206T171731Z
UID:862-1743235200-1743240600@hod.pca.org
SUMMARY:HOD Porsches & Coffee - Big Foot Little Donuts
DESCRIPTION:Bring your Porsche(s). Get a coffee and sweet. Have a nice chat and get a great start to your weekend.
URL:https://hod.pca.org/event/hod-porsches-coffee-big-foots-little-donuts/
LOCATION:Big Foot Little Donuts\, 7914 Memorial Pkwy SW\, Huntsville\, AL
END:VEVENT
BEGIN:VEVENT
DTSTART;TZID=America/New_York:20250329T093000
DTEND;TZID=America/New_York:20250329T113000
DTSTAMP:20260422T134245
CREATED:20241031T132636Z
LAST-MODIFIED:20241206T172016Z
UID:845-1743240600-1743247800@hod.pca.org
SUMMARY:HOD Board of Directors Meeting
DESCRIPTION:Any HOD member is welcome to attend. Meeting in Century Porsche Conference Room.
URL:https://hod.pca.org/event/hod-board-of-directors-meeting-3/
LOCATION:Century Porsche\, 3810 University Dr NW\, Huntsville\, AL\, 35816\, United States
END:VEVENT
BEGIN:VEVENT
DTSTART;TZID=America/Chicago:20250330T073000
DTEND;TZID=America/Chicago:20250330T100000
DTSTAMP:20260422T134245
CREATED:20241101T222757Z
LAST-MODIFIED:20241101T222757Z
UID:864-1743319800-1743328800@hod.pca.org
SUMMARY:EuroSunday Car Show
DESCRIPTION:Porsche of Huntsville has invited us to join them for a Cars &amp; Coffee Event in cooperation with EuroSunday\, 1300 Meridian St.\, N\, Huntsville. In addition to the Porsche owners\, you will have an opportunity to indulge in the exquisite design\, performance\, and camaraderie of a variety of European automobiles all morning.
URL:https://hod.pca.org/event/eurosunday-car-show-2/
LOCATION:EuroSunday\, 1300 Meridian St N\, Huntsville\, AL\, United States
END:VEVENT
END:VCALENDAR