BEGIN:VCALENDAR
VERSION:2.0
PRODID:-// - ECPv6.15.20//NONSGML v1.0//EN
CALSCALE:GREGORIAN
METHOD:PUBLISH
X-ORIGINAL-URL:https://hod.pca.org
X-WR-CALDESC:Events for 
REFRESH-INTERVAL;VALUE=DURATION:PT1H
X-Robots-Tag:noindex
X-PUBLISHED-TTL:PT1H
BEGIN:VTIMEZONE
TZID:America/Chicago
BEGIN:DAYLIGHT
TZOFFSETFROM:-0600
TZOFFSETTO:-0500
TZNAME:CDT
DTSTART:20240310T080000
END:DAYLIGHT
BEGIN:STANDARD
TZOFFSETFROM:-0500
TZOFFSETTO:-0600
TZNAME:CST
DTSTART:20241103T070000
END:STANDARD
BEGIN:DAYLIGHT
TZOFFSETFROM:-0600
TZOFFSETTO:-0500
TZNAME:CDT
DTSTART:20250309T080000
END:DAYLIGHT
BEGIN:STANDARD
TZOFFSETFROM:-0500
TZOFFSETTO:-0600
TZNAME:CST
DTSTART:20251102T070000
END:STANDARD
BEGIN:DAYLIGHT
TZOFFSETFROM:-0600
TZOFFSETTO:-0500
TZNAME:CDT
DTSTART:20260308T080000
END:DAYLIGHT
BEGIN:STANDARD
TZOFFSETFROM:-0500
TZOFFSETTO:-0600
TZNAME:CST
DTSTART:20261101T070000
END:STANDARD
END:VTIMEZONE
BEGIN:VEVENT
DTSTART;TZID=America/Chicago:20250906T070000
DTEND;TZID=America/Chicago:20250906T090000
DTSTAMP:20260421T190450
CREATED:20250205T142056Z
LAST-MODIFIED:20250205T142056Z
UID:984-1757142000-1757149200@hod.pca.org
SUMMARY:HOD Pit Stop Breakfast & Social - Shaggy's
DESCRIPTION:7:00 AM meet in parking lot; 7:30 AM go inside for breakfast. Don’t forget to bring your food and/or paper products for the North Alabama Food Bank.
URL:https://hod.pca.org/event/hod-pit-stop-breakfast-social-shaggys/
LOCATION:Shaggy’s Burgers and Tacos\, 1267 Enterprise Way\, Huntsville\, AL
END:VEVENT
BEGIN:VEVENT
DTSTART;TZID=America/Chicago:20250911T180000
DTEND;TZID=America/Chicago:20250911T200000
DTSTAMP:20260421T190450
CREATED:20250205T142744Z
LAST-MODIFIED:20250205T142744Z
UID:986-1757613600-1757620800@hod.pca.org
SUMMARY:HOD Monthly Members Dinner Meeting - Mildred's Restaurant
DESCRIPTION:6:00PM\, assemble in the parking lot; move inside at 6:30PM for dinner. Please call or text our Club Social Chair Melanie Nord (256) 683-0863 for dinner reservations.
URL:https://hod.pca.org/event/hod-monthly-members-dinner-meeting-mildreds-restaurant/
LOCATION:Mildred’s Restaurant\, 27926 Main St\, Ardmore\, AL\, 35739\, United States
END:VEVENT
BEGIN:VEVENT
DTSTART;TZID=America/Chicago:20250913T070000
DTEND;TZID=America/Chicago:20250913T120000
DTSTAMP:20260421T190450
CREATED:20250424T140243Z
LAST-MODIFIED:20250530T004924Z
UID:1043-1757746800-1757764800@hod.pca.org
SUMMARY:HOD Driving Tour - Massey's Kitchen - Carlile
DESCRIPTION:7:00AM assemble at the SUNOCO Service Station\, 1604 US72 E\, just east of the US72E and Moores Mill intersection\, for a Driving Tour led by Beth Carlile for lunch at Massey’s Kitchen\, 826 Scenic Highway\, Lookout Mtn.\, TN. 
URL:https://hod.pca.org/event/hod-driving-tour-masseys-kitchen-carlile/
LOCATION:Massey’s Kitchen\, 826 Scenic Highway\, Lookout Mountain\, TN\, United States
END:VEVENT
BEGIN:VEVENT
DTSTART;TZID=America/Chicago:20250927T080000
DTEND;TZID=America/Chicago:20250927T093000
DTSTAMP:20260421T190450
CREATED:20250416T130142Z
LAST-MODIFIED:20250416T130142Z
UID:1031-1758960000-1758965400@hod.pca.org
SUMMARY:HOD Porsches & Coffee - Le Macaron French Pastries
DESCRIPTION:Bring your Porsche(s). Get a coffee and sweet. Have a nice chat and get a great start to your weekend.
URL:https://hod.pca.org/event/hod-porsches-coffee-le-macaron-french-pastries/
LOCATION:Le Macaron French Pastries\, 1305 Four Mile Post Rd SE\, Huntsville\, AL
END:VEVENT
BEGIN:VEVENT
DTSTART;TZID=America/Chicago:20250928T073000
DTEND;TZID=America/Chicago:20250928T103000
DTSTAMP:20260421T190450
CREATED:20250205T142959Z
LAST-MODIFIED:20250205T142959Z
UID:989-1759044600-1759055400@hod.pca.org
SUMMARY:EuroSunday Cars & Coffee
DESCRIPTION:Porsche of Huntsville has invited us to join them for a Cars & Coffee Event in cooperation with EuroSunday\, 1300 Meridian St.\, N\, Huntsville.  In addition to meeting other Porsche owners\, you will have an opportunity to review the exquisite design and camaraderie associated with a variety of European automobiles all morning.   While many of our Club members will be in attendance\, this is not an Enthusiast of the Year event.
URL:https://hod.pca.org/event/eurosunday-cars-coffee-6/
LOCATION:EuroSunday\, 1300 Meridian St N\, Huntsville\, AL\, United States
END:VEVENT
END:VCALENDAR