BEGIN:VCALENDAR
VERSION:2.0
PRODID:-// - ECPv6.15.20//NONSGML v1.0//EN
CALSCALE:GREGORIAN
METHOD:PUBLISH
X-ORIGINAL-URL:https://hod.pca.org
X-WR-CALDESC:Events for 
REFRESH-INTERVAL;VALUE=DURATION:PT1H
X-Robots-Tag:noindex
X-PUBLISHED-TTL:PT1H
BEGIN:VTIMEZONE
TZID:America/Chicago
BEGIN:DAYLIGHT
TZOFFSETFROM:-0600
TZOFFSETTO:-0500
TZNAME:CDT
DTSTART:20250309T080000
END:DAYLIGHT
BEGIN:STANDARD
TZOFFSETFROM:-0500
TZOFFSETTO:-0600
TZNAME:CST
DTSTART:20251102T070000
END:STANDARD
BEGIN:DAYLIGHT
TZOFFSETFROM:-0600
TZOFFSETTO:-0500
TZNAME:CDT
DTSTART:20260308T080000
END:DAYLIGHT
BEGIN:STANDARD
TZOFFSETFROM:-0500
TZOFFSETTO:-0600
TZNAME:CST
DTSTART:20261101T070000
END:STANDARD
BEGIN:DAYLIGHT
TZOFFSETFROM:-0600
TZOFFSETTO:-0500
TZNAME:CDT
DTSTART:20270314T080000
END:DAYLIGHT
BEGIN:STANDARD
TZOFFSETFROM:-0500
TZOFFSETTO:-0600
TZNAME:CST
DTSTART:20271107T070000
END:STANDARD
END:VTIMEZONE
BEGIN:VEVENT
DTSTART;TZID=America/Chicago:20260103T070000
DTEND;TZID=America/Chicago:20260103T090000
DTSTAMP:20260421T122132
CREATED:20251219T174652Z
LAST-MODIFIED:20251219T180518Z
UID:1096-1767423600-1767430800@hod.pca.org
SUMMARY:HOD Pit Stop Social and Breakfast - Edgar's Bakery\, Madison
DESCRIPTION:7:00 AM – Social in parking lot.\n7:30 AM – Breakfast inside as desired. Don’t forget to bring a food item for your contribution to the North Alabama Food Bank.
URL:https://hod.pca.org/event/hod-pit-stop-social-and-breakfast-edgars-bakery-madison/
LOCATION:Edgar’s Madison\, 125 Stadium Way\, Madison\, AL
CATEGORIES:Pit Stop Breakfast,Social
END:VEVENT
BEGIN:VEVENT
DTSTART;TZID=America/Chicago:20260103T093000
DTEND;TZID=America/Chicago:20260103T113000
DTSTAMP:20260421T122132
CREATED:20251219T181042Z
LAST-MODIFIED:20251219T181042Z
UID:1109-1767432600-1767439800@hod.pca.org
SUMMARY:HOD Board of Director's Meeting
DESCRIPTION:EOY 1st Quarter BOD Meeting at the BMW 2nd floor Conference Room follows the Breakfast\, 9:30-11:30AM
URL:https://hod.pca.org/event/hod-board-of-directors-meeting-6/
LOCATION:AL
CATEGORIES:Board Meeting
END:VEVENT
BEGIN:VEVENT
DTSTART;TZID=America/Chicago:20260108T180000
DTEND;TZID=America/Chicago:20260108T200000
DTSTAMP:20260421T122132
CREATED:20251219T175113Z
LAST-MODIFIED:20260116T141822Z
UID:1100-1767895200-1767902400@hod.pca.org
SUMMARY:HOD Monthly Members Dinner Meeting - Rocket City Tavern
DESCRIPTION:6:00PM\, assemble in the parking lot; move inside at 6:30PM for dinner. Please call or text our Club Social Chair Melanie Nord (256) 683-0863 for dinner reservations.
URL:https://hod.pca.org/event/hod-monthly-members-dinner-meeting-rocket-city-tavern/
LOCATION:Rocket City Tavern\, Redstone Gateway\, 2100 Rideout Rd SW\, Huntsville\, United States
CATEGORIES:Member Dinner,Social
END:VEVENT
BEGIN:VEVENT
DTSTART;TZID=America/Chicago:20260117T073000
DTEND;TZID=America/Chicago:20260117T120000
DTSTAMP:20260421T122132
CREATED:20251219T175709Z
LAST-MODIFIED:20260115T141400Z
UID:1102-1768635000-1768651200@hod.pca.org
SUMMARY:HOD Driving Tour - Trissl Sports Cars\, Florence AL - Schroetter
DESCRIPTION:7:30AM\, assemble in the Planet Fitness parking lot\, 8050 US72\, Madison with a prompt departure at 8:00AM. 8050 US72 W\, Madison\, for a Driving Tour led by our Club Past President\, Dave Schroetter to visit Trissl Sports Cars\, 519 Wilhite St.\, Florence.  Lunch follows Trissl’s at a Sam’s Sport Grill\, 339 Seville St.\, Florence\, then return individually to Huntsville
URL:https://hod.pca.org/event/hod-driving-tour-trissl-sports-cars-florence-al-schroetter/
LOCATION:Planet Fitness Madison\, 8050 Hwy 72 W\, Madison\, AL\, 35758
CATEGORIES:Tour
END:VEVENT
BEGIN:VEVENT
DTSTART;TZID=America/Chicago:20260127T113000
DTEND;TZID=America/Chicago:20260127T130000
DTSTAMP:20260421T122132
CREATED:20251224T162256Z
LAST-MODIFIED:20260116T160258Z
UID:1113-1769513400-1769518800@hod.pca.org
SUMMARY:Ladies Who Lunch - Terra Restaurant and Bar
DESCRIPTION:Marcia Elkins hosts Ladies Who Lunch at Terra Italian Restaurant & Bar. Please RSVP via Text Message to Marcia at 256-783-6519
URL:https://hod.pca.org/event/ladies-who-lunch-terra-restaurant-and-bar/
LOCATION:Terra Italian Restaurant & Bar\, 4925 NW University Dr. Suite 178\, Huntsville\, AL\, 35816\, United States
CATEGORIES:Social
END:VEVENT
BEGIN:VEVENT
DTSTART;TZID=America/Chicago:20260131T090000
DTEND;TZID=America/Chicago:20260131T110000
DTSTAMP:20260421T122132
CREATED:20251219T175956Z
LAST-MODIFIED:20260120T203709Z
UID:1104-1769850000-1769857200@hod.pca.org
SUMMARY:HOD Tech Session (new date) - Joe Still's Tech Barn
DESCRIPTION:Note\, this event has a new date. This event was originally scheduled for Jan 24 and was moved to 1/31. \nAssemble for a Tech Session at Joe Still’s Toy Barn\, 3220 Long Ave.\, Huntsville\, Coffee and light refreshments will be available.
URL:https://hod.pca.org/event/hod-tech-session-joe-stills-tech-barn/
LOCATION:Joe Still’s Toy Barn\, 3220 Long Ave SW\, Huntsville\, AL\, 35805
CATEGORIES:Tech Session
END:VEVENT
END:VCALENDAR